BEGIN:VCALENDAR
PRODID:NingEventWidget-v1
VERSION:2.0
METHOD:PUBLISH
BEGIN:VTIMEZONE
TZID:Pacific/Midway
X-LIC-LOCATION:Pacific/Midway
BEGIN:STANDARD
TZOFFSETFROM:-1100
TZOFFSETTO:-1100
TZNAME:SST
DTSTART:19700101T000000
END:STANDARD
END:VTIMEZONE
BEGIN:VEVENT
UID:5385115:Event:146443
DTSTAMP:20260422T151639Z
SUMMARY:Open in Action – Enhancing Research Impact @CUHK AIMS
DESCRIPTION:Date: October 24, 2016 (Monday)\nTime: 10:00 a.m. – 5:00
  p.m. (HKT)\nVenue: The Beacon and the University Library, The Chinese
  University of Hong Kong (香港中文大學百萬大道烽火台及
 學圖書館)\n\n\nThe Open Access Day is to share with the Universit
 y community the benefits of opening up research. Themed as “Open in 
 Action – Enhancing Research Impact @CUHK AIMS”, the event is tied 
 in with the International Open Access Week to highlight the needs of 
 taking action now to open up research through the new Academic Informa
 tion Management System (AIMS) and the institutional repository Researc
 h Portal. This new system provides a new avenue for the dissemination 
 of research outputs, showcasing the research excellence of the Univers
 ity and facilitating international networking and collaboration. Openi
 ng and sharing research is the means to reap these benefits.\nA mixtur
 e of programmes are organized below running from 10:00 a.m. to 5:00 p.
 m. on that day. The Opening Ceremony will be held at the Beacon and of
 ficiated by Prof. Benjamin Wah, Provost, Prof. Fanny Cheung, Pro-Vice-
 Chancellor / Vice-President, Prof. Lutz Christian Wolff, Dean of the G
 raduate School, Prof. Walter Ho, Director of ORKTS, and Ms. Louise Jon
 es, University Librarian. You are welcome to register at here.\n \n\n
 「開放存取日」旨在向大學成員分享將研究成果公開
 大眾取用的好處。是次活動與國際開放存取週同步
 行，主題為「實行開放存取 - 「香港中文大學學術研
 究文庫」有助提升研究成果之影響力」，藉此呼籲通
 快將啟用的學術研究管理系統及香港中文大學學術
 究文庫實行開放存取的重要性。這套新系統可提供一
 個新的途徑予大學研究人員發佈學術成果，並向公眾
 示大學卓越的學術研究成就，以促進國際學術交流
 要達至以上好處必須開放及分享學術研究。\n當日由
 午十時至下午五時將有一連串活動舉行，包括展覽
 副校長與圖書館館長對談、大學研究人員對使用開放
 存取文庫之經驗分享、講座以及率先試用學術研究管
 系統。於中午十二時將會由常務副校長華雲生教授
 副校長張妙清教授，研究院院長鄔楓教授，研究及知
 識轉移服務處處長何國強教授，以及大學圖書館館長
 露絲女士主持活動開幕儀式。如欲參與「開放存取
 」，請按此登記。\n\nFor more information visit http://legacy.
 openaccessweek.org/events/open-in-action-enhancing-research-impact-cuh
 k-aims
DTSTART;TZID=Pacific/Midway:20161024T100000
DTEND;TZID=Pacific/Midway:20161024T170000
CATEGORIES:ceremony, discussion, experience, sharing, hands, on, sessi
 on, exhibition
LOCATION:Hong Kong
WEBSITE:http://www.lib.cuhk.edu.hk/en/about/news/rsdi-oaday2016
URL:http://www.lib.cuhk.edu.hk/en/about/news/rsdi-oaday2016
CONTACT:(852)3943-7313
ORGANIZER:Research Support & Digital Initiatives
ATTACH;FMTTYPE="image/jpeg":http://storage.ning.com/topology/rest/1.0/
 file/get/3057578549?profile=original
ATTENDEE;ROLE=REQ-PARTICIPANT;PARTSTAT=ACCEPTED;RSVP=TRUE;CN="Jeff Liu
 ":http://legacy.openaccessweek.org/profile/JeffLiu
END:VEVENT
END:VCALENDAR
