BEGIN:VCALENDAR
PRODID:NingEventWidget-v1
VERSION:2.0
METHOD:PUBLISH
BEGIN:VTIMEZONE
TZID:Pacific/Midway
X-LIC-LOCATION:Pacific/Midway
BEGIN:STANDARD
TZOFFSETFROM:-1100
TZOFFSETTO:-1100
TZNAME:SST
DTSTART:19700101T000000
END:STANDARD
END:VTIMEZONE
BEGIN:VEVENT
UID:5385115:Event:147693
DTSTAMP:20260423T020302Z
SUMMARY:Open in Action ,CUT in Action
DESCRIPTION:The presentations include: \n\nThe changing landscape of 
 publishing: Open Access to spread the knowledge and build upon\nThe a 
 key role of research articles to ensure the safety and efficacy of med
 icinal products\nThe impact of open access journals\nCUT Library initi
 atives to promote Open Access\n\n\nThe event will take place at the Cy
 prus University of Technology, Andreas Themistokleous building, Room \
 "Nicosia\", Limassol, Cyprus.  \n\nFor more information visit http://
 legacy.openaccessweek.org/events/open-in-action-cut-in-action
DTSTART;TZID=Pacific/Midway:20161026T100000
DTEND;TZID=Pacific/Midway:20161026T120000
CATEGORIES:presentations, "&", discussion
LOCATION:Cyprus
WEBSITE:
URL:
CONTACT:0035725002073
ORGANIZER:Cyprus University of Technology Library
ATTACH;FMTTYPE="image/jpeg":http://storage.ning.com/topology/rest/1.0/
 file/get/3057580407?profile=original
ATTENDEE;ROLE=REQ-PARTICIPANT;PARTSTAT=ACCEPTED;RSVP=TRUE;CN="Marios Z
 ervas":http://legacy.openaccessweek.org/profile/MariosZervas
ATTENDEE;ROLE=REQ-PARTICIPANT;PARTSTAT=ACCEPTED;RSVP=TRUE;CN="Petros A
 rt":http://legacy.openaccessweek.org/profile/PetrosArtemi
ATTENDEE;ROLE=REQ-PARTICIPANT;PARTSTAT=ACCEPTED;RSVP=TRUE;CN="Myria A.
 ":http://legacy.openaccessweek.org/profile/MyriaA
END:VEVENT
END:VCALENDAR
