BEGIN:VCALENDAR
PRODID:NingEventWidget-v1
VERSION:2.0
METHOD:PUBLISH
BEGIN:VTIMEZONE
TZID:Pacific/Midway
X-LIC-LOCATION:Pacific/Midway
BEGIN:STANDARD
TZOFFSETFROM:-1100
TZOFFSETTO:-1100
TZNAME:SST
DTSTART:19700101T000000
END:STANDARD
END:VTIMEZONE
BEGIN:VEVENT
UID:5385115:Event:132965
DTSTAMP:20260421T043543Z
SUMMARY:Open Generational Access
DESCRIPTION:Open Generational Access  Workshop is  a worshop that p
 rovides an opportunity for the academic arch community to continue to 
 learn about the potential benefits of Open Access, to share what they
 ve learned with colleagues, and to help inspire wider participation 
 in helping to make Open Access a new norm in scholarship and research.
 \nTrainings will be held everyday from 11/09/2015 to 11/13/2015 from 0
 1:00 pm to 02:00 pm\nOn 11/14/2015 there will be a  full day event  
 comprising  a symposium and  special Presentations from our invited 
 guest  that will commemorate the end of our program \n“Open Access
 ” to information – the free, immediate, online access to the resul
 ts of scholarly research, and the right to use and re-use those result
 s as you need – has the power to transform the way research and scie
 ntific inquiry are conducted. It has direct and widespread implication
 s for academia, medicine, science, industry, and for society as a whol
 e\n\nFor more information visit http://legacy.openaccessweek.org/event
 s/open-generational-access-workshop
DTSTART;TZID=Pacific/Midway:20151114T000000
DTEND;TZID=Pacific/Midway:20151114T235900
CATEGORIES:trainings, and, symposium
LOCATION:Tanzania
WEBSITE:https://www.google.co.tz/maps/place/Hubert+Kairuki+Memorial+Un
 iversity/@-6.7730557,39.2547512,17z/data=!3m1!4b1!4m2!3m1!1s0x185c4c39
 39ffba23:0x526d43be962d8090?hl=en
URL:https://www.google.co.tz/maps/place/Hubert+Kairuki+Memorial+Univer
 sity/@-6.7730557,39.2547512,17z/data=!3m1!4b1!4m2!3m1!1s0x185c4c3939ff
 ba23:0x526d43be962d8090?hl=en
CONTACT:+255 657 717996
ORGANIZER;CN="Benson  Bryceson Mringo":http://legacy.openaccessweek.or
 g/profile/BensonBrycesonMringo
ATTACH;FMTTYPE="image/jpeg":
ATTENDEE;ROLE=REQ-PARTICIPANT;PARTSTAT=ACCEPTED;RSVP=TRUE;CN="Benson  
 Bryceson Mringo":http://legacy.openaccessweek.org/profile/BensonBryces
 onMringo
END:VEVENT
END:VCALENDAR
