BEGIN:VCALENDAR
PRODID:NingEventWidget-v1
VERSION:2.0
METHOD:PUBLISH
BEGIN:VTIMEZONE
TZID:Pacific/Midway
X-LIC-LOCATION:Pacific/Midway
BEGIN:STANDARD
TZOFFSETFROM:-1100
TZOFFSETTO:-1100
TZNAME:SST
DTSTART:19700101T000000
END:STANDARD
END:VTIMEZONE
BEGIN:VEVENT
UID:5385115:Event:99034
DTSTAMP:20260425T125038Z
SUMMARY:Open Freedoms / Open Practices
DESCRIPTION:Speaker: Paul Stacey, Senior Project Manager, Creative Co
 mmons\n\nDescription:\nContemporary open education practices are based
  on free software and free culture movements. Join Paul Stacey from Cr
 eative Commons as he explores the extent to which Open Educational Res
 ources, MOOC’s, open access, and other open education innovations ar
 e embodying and leveraging these movements. Add your ideas to Paul’s
  as he imagines the possibilities open freedoms and open practices bri
 ng to education for faculty, students, and institutions. This wide ran
 ging session will show how open is affecting every aspect of the unive
 rsity’s core mission – teaching, research, data, infrastructure, a
 nd community. Open freedoms have a corresponding set of ethical practi
 ces. There is growing expectation in the digital age, where the cost o
 f copying and distributing resources is close to zero, that public fun
 ds should result in public goods. Governments and funders are increasi
 ngly putting in place open policy that requires grantees to openly lic
 ense research and curricula created with public funds. Join Paul as he
  explores the ways in which digital technologies and contemporary open
  education practices are affecting the economics and traditional busin
 ess models of education. Is open a major transformation of education? 
 Decide for yourself at this Open Freedoms / Open Practices event.\n\nL
 ive webcast link:\n http://mediasitemob1.mediagroup.ubc.ca/Mediasite/
 Play/6d1c814b6f694206a7c7de839634fee91d\n\nFor more information visit 
 http://legacy.openaccessweek.org/events/open-freedoms-open-practices
DTSTART;TZID=Pacific/Midway:20131023T100000
DTEND;TZID=Pacific/Midway:20131023T110000
CATEGORIES:presentation, "live stream"
LOCATION:University of British Columbia
WEBSITE:http://oaweek.open.ubc.ca/2013/09/11/open-freedoms-open-practi
 ces/
URL:http://oaweek.open.ubc.ca/2013/09/11/open-freedoms-open-practices/
CONTACT:
ORGANIZER:University of British Columbia Library
ATTACH;FMTTYPE="image/jpeg":http://storage.ning.com/topology/rest/1.0/
 file/get/3057522787?profile=original
ATTENDEE;ROLE=REQ-PARTICIPANT;PARTSTAT=ACCEPTED;RSVP=TRUE;CN="Open UBC
 ":http://legacy.openaccessweek.org/profile/TraceyVantyghem
END:VEVENT
END:VCALENDAR
