BEGIN:VCALENDAR
PRODID:NingEventWidget-v1
VERSION:2.0
METHOD:PUBLISH
BEGIN:VTIMEZONE
TZID:Pacific/Midway
X-LIC-LOCATION:Pacific/Midway
BEGIN:STANDARD
TZOFFSETFROM:-1100
TZOFFSETTO:-1100
TZNAME:SST
DTSTART:19700101T000000
END:STANDARD
END:VTIMEZONE
BEGIN:VEVENT
UID:5385115:Event:52354
DTSTAMP:20260423T044434Z
SUMMARY:Open Education Resources (OER) workshop
DESCRIPTION:The UOC UNESCO Chair in E-Learning will once again be gi
 ving the Open Education Resources (OER) workshop. Led by: Julià Ming
 uillón.\nAt this workshop aimed at UOC teaching and administration st
 aff, we will explain what the open educational resources (OER) movemen
 t is, we will look at the most important aspects to consider and we wi
 ll speak of the licences available for publishing open teaching materi
 al. We will end the workshop with a practical session, uploading teach
 ing materials to the UOC institutional repository. Some of the subject
 s that will be covered are available to read in the collection of open
  resources on OER in the UOC institutional repository. http://hdl.han
 dle.net/10609/7022.Place: Universitat Oberta de Catalunya, 22@ (Rambla
  Poblenou, 156, Barcelona), -1H room.Attendance must be confirmed as p
 laces are limited, more information.\n\nFor more information visit ht
 tp://legacy.openaccessweek.org/events/open-education-resources-oer-wor
 kshop
DTSTART;TZID=Pacific/Midway:20111025T110000
DTEND;TZID=Pacific/Midway:20111025T140000
CATEGORIES:workshop
LOCATION:Universitat Oberta de Catalunya, 22@
WEBSITE:http://oer.uoc.edu/OAweek2011/index_eng.html
URL:http://oer.uoc.edu/OAweek2011/index_eng.html
CONTACT:
ORGANIZER:Universitat Oberta de Catalunya, UOC
ATTACH;FMTTYPE="image/jpeg":http://storage.ning.com/topology/rest/1.0/
 file/get/2890168360?profile=original
ATTENDEE;ROLE=REQ-PARTICIPANT;PARTSTAT=ACCEPTED;RSVP=TRUE;CN="Cristina
  Vaquer":http://legacy.openaccessweek.org/profile/CristinaVaquer
END:VEVENT
END:VCALENDAR
