BEGIN:VCALENDAR
PRODID:NingEventWidget-v1
VERSION:2.0
METHOD:PUBLISH
BEGIN:VTIMEZONE
TZID:Pacific/Midway
X-LIC-LOCATION:Pacific/Midway
BEGIN:STANDARD
TZOFFSETFROM:-1100
TZOFFSETTO:-1100
TZNAME:SST
DTSTART:19700101T000000
END:STANDARD
END:VTIMEZONE
BEGIN:VEVENT
UID:5385115:Event:101291
DTSTAMP:20260422T092101Z
SUMMARY:Open Acess, repositories and copyleft workshop, by Julià Ming
 uillón and Ignasi Labastida
DESCRIPTION:At this workshop, the professor Julià Minguillón will ex
 plain the concept of open resources,  what the open educational reso
 urces (OER) movement is, we will have a look at the most important asp
 ects to consider. Moreover, Ignasi Labastida, leader of Creative Commo
 ns project in Spain and Catalonia, will talk about the licences availa
 ble for publishing open teaching material and will solve your doubts o
 n copyright and copyleft.\n\nRegister for the workshop (form in Spanis
 h and Catalan).\nIf you cannot come in person, don't worry, it will be
  streamed online.\n\nSome of the subjects that will be covered are ava
 ilable to read in the collection of open resources on OER in the UOC i
 nstitutional repository, O2: http://hdl.handle.net/10609/7022.\nIt wi
 ll be streamed online at: http://oer.uoc.edu/OAweek2013/streaming_eng.
 html\nMore information on the activities of the Universitat Oberta de 
 Catalunya (UOC) for the Open Access Week 2013 at: http://oer.uoc.edu/
 OAweek2013/index_eng.html.\n\nFor more information visit http://legacy
 .openaccessweek.org/events/open-education-resources-oer-workshop-by-ju
 li-minguill-n-and
DTSTART;TZID=Pacific/Midway:20131025T103000
DTEND;TZID=Pacific/Midway:20131025T120000
CATEGORIES:workshop
LOCATION:http://oer.uoc.edu/OAweek2013/streaming_eng.html
WEBSITE:https://maps.google.com/maps?q=Carrer+de+Roc+Boronat,+117,+Bar
 celona,+Spain&hl=en&ll=41.402421,2.194948&spn=0.011508,0.016544&sll=41
 .402219,2.196559&sspn=0.011508,0.016544&hnear=Carrer+de+Roc+Boronat,+1
 17,+08018+Barcelona,+Spain&t=m&z=16
URL:https://maps.google.com/maps?q=Carrer+de+Roc+Boronat,+117,+Barcelo
 na,+Spain&hl=en&ll=41.402421,2.194948&spn=0.011508,0.016544&sll=41.402
 219,2.196559&sspn=0.011508,0.016544&hnear=Carrer+de+Roc+Boronat,+117,+
 08018+Barcelona,+Spain&t=m&z=16
CONTACT:
ORGANIZER:Virtual Library of the Universitat Oberta de Catalunya (UOC)
ATTACH;FMTTYPE="image/jpeg":http://storage.ning.com/topology/rest/1.0/
 file/get/3057512949?profile=original
ATTENDEE;ROLE=REQ-PARTICIPANT;PARTSTAT=ACCEPTED;RSVP=TRUE;CN="Cristina
  Vaquer":http://legacy.openaccessweek.org/profile/CristinaVaquer
END:VEVENT
END:VCALENDAR
