BEGIN:VCALENDAR
PRODID:NingEventWidget-v1
VERSION:2.0
METHOD:PUBLISH
BEGIN:VTIMEZONE
TZID:Pacific/Midway
X-LIC-LOCATION:Pacific/Midway
BEGIN:STANDARD
TZOFFSETFROM:-1100
TZOFFSETTO:-1100
TZNAME:SST
DTSTART:19700101T000000
END:STANDARD
END:VTIMEZONE
BEGIN:VEVENT
UID:5385115:Event:158208
DTSTAMP:20260419T040235Z
SUMMARY:Open Door Talk at Dahlem Research School: Wie publiziere ich m
 eine Dissertation Open Access?
DESCRIPTION:Das Open-Access-Team der Freien Universität stellt Ihnen 
 die Möglichkeiten vor, wie Sie Ihre Doktorarbeit frei zugänglich im 
 Sinne des Open Access publizieren können.\nSie sind gerade dabei, Ihr
 e Promotion abzuschließen und überlegen, in welcher Form Sie der Pub
 likationspflicht nachkommen sollen?\nVielleicht hat Ihnen bereits Ihre
  Betreuerin oder Ihr Mentor einen Verlag oder eine geeignete Buchreihe
  nahegelegt?\nNeben der Frage nach dem passenden Publikationsort spiel
 ten Aspekte des Zugangs und der Breitenwirkung einer Veröffentlichung
  eine ebenfalls wichtige Rolle.\n\nWas spricht für eine Open-Access-V
 eröffentlichung?\nWie finde ich geeignete Open-Access-Verlage?\nWelch
 e Publikationsmöglichkeiten gibt es an der Freien Universität?\nWelc
 he rechtlichen und finanziellen Fragen sind von Bedeutung?\nWelche Kar
 riereaspekte muss ich berücksichtigen?\nWo bekomme ich Unterstützung
 ?\n\nZielgruppe: Promovierende\nDozent/innen:Dr. Christina Riesenweber
 , Open-Access-Beauftragte der Freien Universität Berlin, Dr. Agnieszk
 a Wenninger, Open-Access-Referentin\n\nFor more information visit http
 ://legacy.openaccessweek.org/events/open-door-talk-at-dahlem-research-
 school-wie-publiziere-ich-meine
DTSTART;TZID=Pacific/Midway:20171024T180000
DTEND;TZID=Pacific/Midway:20171024T200000
CATEGORIES:lecture, discussion
LOCATION:Germany
WEBSITE:http://www.fu-berlin.de/sites/open_access/termine/2017-10-24_o
 a_open_door_talk.html
URL:http://www.fu-berlin.de/sites/open_access/termine/2017-10-24_oa_op
 en_door_talk.html
CONTACT:
ORGANIZER:Open-Access-Team Freie Universität Berlin
ATTACH;FMTTYPE="image/jpeg":http://storage.ning.com/topology/rest/1.0/
 file/get/3057589991?profile=original
ATTENDEE;ROLE=REQ-PARTICIPANT;PARTSTAT=ACCEPTED;RSVP=TRUE;CN="Christin
 a Riesenweber":http://legacy.openaccessweek.org/profile/ChristinaRiese
 nweber
END:VEVENT
END:VCALENDAR
