BEGIN:VCALENDAR
PRODID:NingEventWidget-v1
VERSION:2.0
METHOD:PUBLISH
BEGIN:VTIMEZONE
TZID:Pacific/Midway
X-LIC-LOCATION:Pacific/Midway
BEGIN:STANDARD
TZOFFSETFROM:-1100
TZOFFSETTO:-1100
TZNAME:SST
DTSTART:19700101T000000
END:STANDARD
END:VTIMEZONE
BEGIN:VEVENT
UID:5385115:Event:159910
DTSTAMP:20260423T060516Z
SUMMARY:Open Data In Action
DESCRIPTION:Open Data In Action brings together a wide range of res
 earchers to showcase how their work has benefited from openly and free
 ly accessible data. Presenters from the public, private, and academic 
 sectors will discuss how open data, ranging from historical documents 
 to statistical analyses, is being used to create projects, change pol
 icies, or conduct research and highlight the importance open data ha
 s on shaping the world around us. Co-sponsored by the Hartford Public 
 Library\nOpening Remarks\n\nTyler Kleykamp, Chief Data Officer, State 
 of Connecticut\n\nPresenters:\n\nRachel Leventhal-Weiner, CT Data Coll
 aborative, CT Data Academy\nJennifer Snow, UConn Library, Puerto Rico 
 Citizenship Archives: Government Documents as Open Data\nTina Panik, A
 von Public Library, World War II Newsletters from the CTDA\nRebecca St
 erns, Korey Stringer Institute, Athlete Sudden Death Registry\nAndrew 
 Wolf, UConn Digital Media & Design, Omeka Everywhere\nSteve Batt, UCon
 n Hartford/CT State Data Center, Tableau Public and CT Census Data\nAn
 na Lindemann/Graham Stinnett, UConn/DM&D, & Archives, Teaching Motion 
 Graphics with Human Rights Archives\nThomas Long, UConn Nursing, Dolan
  Collection Nursing History Blog\nJason Cory Brunson, UConn Health Cen
 ter, Modeling Incidence and Severity of Disease using Administrative H
 ealthcare Data\n\n\nFor more information visit http://legacy.openacces
 sweek.org/events/open-data-in-action
DTSTART;TZID=Pacific/Midway:20171026T110000
DTEND;TZID=Pacific/Midway:20171026T140000
CATEGORIES:salon
LOCATION:United States of America
WEBSITE:http://blogs.lib.uconn.edu/news/uconn-celebrates-open-access-w
 eek/#.WeDn2miPJaQ
URL:http://blogs.lib.uconn.edu/news/uconn-celebrates-open-access-week/
 #.WeDn2miPJaQ
CONTACT:
ORGANIZER;CN="Jean Nelson":http://legacy.openaccessweek.org/profile/Je
 anNelson
ATTACH;FMTTYPE="image/jpeg":
ATTENDEE;ROLE=REQ-PARTICIPANT;PARTSTAT=ACCEPTED;RSVP=TRUE;CN="Jean Nel
 son":http://legacy.openaccessweek.org/profile/JeanNelson
END:VEVENT
END:VCALENDAR
