BEGIN:VCALENDAR
PRODID:NingEventWidget-v1
VERSION:2.0
METHOD:PUBLISH
BEGIN:VTIMEZONE
TZID:Pacific/Midway
X-LIC-LOCATION:Pacific/Midway
BEGIN:STANDARD
TZOFFSETFROM:-1100
TZOFFSETTO:-1100
TZNAME:SST
DTSTART:19700101T000000
END:STANDARD
END:VTIMEZONE
BEGIN:VEVENT
UID:5385115:Event:158486
DTSTAMP:20260423T212626Z
SUMMARY:Open Data: An Introduction
DESCRIPTION:What is open data, and how does it benefit researchers? Jo
 in librarians Emma Black and Sandra Cowan as they discuss the advantag
 es of data that can be freely accessed and shared.\nThis event will ta
 ke place in room L950, located on the 9th floor of the University of L
 ethbridge Library. \n\nFor more information visit http://legacy.opena
 ccessweek.org/events/open-data-an-introduction
DTSTART;TZID=Pacific/Midway:20171026T121500
DTEND;TZID=Pacific/Midway:20171026T133000
CATEGORIES:talk, "open data"
LOCATION:Canada
WEBSITE:
URL:
CONTACT:
ORGANIZER;CN="Tara Wiebe":http://legacy.openaccessweek.org/profile/Tar
 aWiebe
ATTACH;FMTTYPE="image/jpeg":
ATTENDEE;ROLE=REQ-PARTICIPANT;PARTSTAT=ACCEPTED;RSVP=TRUE;CN="Tara Wie
 be":http://legacy.openaccessweek.org/profile/TaraWiebe
END:VEVENT
END:VCALENDAR
