BEGIN:VCALENDAR
PRODID:NingEventWidget-v1
VERSION:2.0
METHOD:PUBLISH
BEGIN:VTIMEZONE
TZID:Pacific/Midway
X-LIC-LOCATION:Pacific/Midway
BEGIN:STANDARD
TZOFFSETFROM:-1100
TZOFFSETTO:-1100
TZNAME:SST
DTSTART:19700101T000000
END:STANDARD
END:VTIMEZONE
BEGIN:VEVENT
UID:5385115:Event:185560
DTSTAMP:20260425T173014Z
SUMMARY:Open consultation hour \"Electronic self-archiving\"
DESCRIPTION:Open consultation hour \"Electronic self-archiving\"\nDate
 : 21, 22 & 25 October - Time: 16:00 to 18:00\nWhat to look out for whe
 n publishing in freely accessible repositories (document servers or on
 line archives) and on websites? Can I still publish my article Apen Ac
 cess if I have published in a journal without Open Access? Preprint an
 d postprint versions - what is meant by this? Where can I find prelimi
 nary information on journals published by different publishers?\nThese
  and other questions can be challenging for researchers. Fortunately, 
 there is support at the HLB for this. We provide support for our resea
 rchers at Fulda University:\n\nchecking the requirements for a possibl
 e Open Access publication on \"FulDok\" - Fulda Document Sever,\nconta
 ct with publishers to obtain necessary rights,\nthe setting and activa
 tion on \"FulDok\" - Fulda Document Server\n\nRegistration is not requ
 ired. Simply register at the information desk of the HLB, Campus, or c
 ontact Mr. Patrick Langner, Open Access Representative of the Universi
 ty of Applied Sciences Fulda: openaccess(at)hlb-hs-fulda.de.\nIf you w
 ish to use other repositories, we will be happy to advise you on what 
 needs to be observed in general and which tools you can use for your o
 wn examination of the legal requirements.\n Further information:\nFuld
 a University of Applied Sciences published a university-wide Open Acce
 ss guideline on 24 October 2018. In order to implement this guideline,
  the university management recommends that all researchers archive the
 ir publications on the open access server \"FulDok\" - Fulda Document 
 Server of the University and State Library.\n\nFor more information vi
 sit http://legacy.openaccessweek.org/events/open-consultation-hour-ele
 ctronic-self-archiving
DTSTART;TZID=Pacific/Midway:20191021T040000
DTEND;TZID=Pacific/Midway:20191025T060000
CATEGORIES:"open consultation"
LOCATION:Germany
WEBSITE:https://www.hs-fulda.de/index.php?id=3701
URL:https://www.hs-fulda.de/index.php?id=3701
CONTACT:
ORGANIZER;CN="Patrick Langner":http://legacy.openaccessweek.org/profil
 e/PatrickLangner
ATTACH;FMTTYPE="image/jpeg":
ATTENDEE;ROLE=REQ-PARTICIPANT;PARTSTAT=ACCEPTED;RSVP=TRUE;CN="Patrick 
 Langner":http://legacy.openaccessweek.org/profile/PatrickLangner
END:VEVENT
END:VCALENDAR
