BEGIN:VCALENDAR
PRODID:NingEventWidget-v1
VERSION:2.0
METHOD:PUBLISH
BEGIN:VTIMEZONE
TZID:Pacific/Midway
X-LIC-LOCATION:Pacific/Midway
BEGIN:STANDARD
TZOFFSETFROM:-1100
TZOFFSETTO:-1100
TZNAME:SST
DTSTART:19700101T000000
END:STANDARD
END:VTIMEZONE
BEGIN:VEVENT
UID:5385115:Event:184645
DTSTAMP:20260423T111327Z
SUMMARY:Open Access Week UniversitÃ© de Poitiers
DESCRIPTION:Le Service Commun de Documentation est heureux de vous con
 vier Ã  de courts ateliers d'Ã©changes conviviaux d'une heure autour d
 e l'Open Access et de l'Open Science. L'entrÃ©e est libre et sans insc
 ription, sauf pour les sÃ©ances du serious game \"Licence to kill\" et
  pour le Doc DÃ©j.    Lundi 14/10:Â \n\n9h-10h : Les nouvelles licence
 s de la BibliothÃ¨que virtuelle de l'UniversitÃ© de Poitiers (BIVUP) :
  Creative Commons, Marque du Domaine Public 1.0 et Etalab\n13h-14h : C
 rÃ©ez votre ID-Hal et dÃ©posez dans Hal\n16h30-17h15 : Plan national p
 our la Science ouverte et Plan S : quelles avancÃ©es pour l'Open Acces
 s ?Â \n17h15-18h : Les actions de soutien du Service Commun de Documen
 tation Ã  la Science Ouverte\n\nMardi 15/10:Â \n\n9h-10h30 : jeu sÃ©ri
 eux License to kill (sur les licences Creative Commons)\n12h-13h : CrÃ
 ©ez votre ID-Hal et dÃ©posez dans Hal\n17h-18h : Droit d'auteur et Ope
 n Access (BU Sciences campus)\n\nMercredi 16/10:Â \n\n9h-10h : Open ci
 tation : les outils scientomÃ©triques en Open Access\n12h-13h : CrÃ©ez
  votre ID-Hal et dÃ©posez dans Hal\n17h-19h : Des extensions de naviga
 teur pour repÃ©rer les publications en Open Access\n\nJeudi 17/10:Â \n
 \n8h45-10h : Doc DÃ©j: Les identifiants chercheurs, pour qui, pourquoi
  ?\n12h-13h : CrÃ©ez votre ID-Hal et dÃ©posez dans Hal\n16h30-17h30: j
 eu sÃ©rieux License to kill (sur les licences Creative Commons)\n\nVen
 dredi 18/10 :Â \n\n9h-10h : Mettre son travail en accÃ¨s ouvert Ã  l'U
 niversitÃ© de Poitiers : le dÃ©pÃ´t et la mise en libre accÃ¨s des thÃ
 ¨ses et travaux d'Ã©tudiants\n11h-12h : Mettre son travail en accÃ¨s o
 uvert Ã  l'UniversitÃ© de Poitiers : le dÃ©pÃ´t et la mise en libre ac
 cÃ¨s des thÃ¨ses et travaux d'Ã©tudiants\n13h-14h: atelier CrÃ©ez votr
 e ID-Hal et dÃ©posez dans Hal\n\n\nFor more information visit http://l
 egacy.openaccessweek.org/events/open-access-week-universit-de-poitiers
DTSTART;TZID=Pacific/Midway:20191014T210000
DTEND;TZID=Pacific/Midway:20191018T211500
CATEGORIES:ateliers, jeux, formations
LOCATION:France
WEBSITE:http://scd.univ-poitiers.fr/quoi-de-neuf-/open-access-week-201
 9-a-poitiers-du-14-au-18-10-1661284.kjsp
URL:http://scd.univ-poitiers.fr/quoi-de-neuf-/open-access-week-2019-a-
 poitiers-du-14-au-18-10-1661284.kjsp
CONTACT:
ORGANIZER:Nicolas Pinet
ATTACH;FMTTYPE="image/jpeg":https://storage.ning.com/topology/rest/1.0
 /file/get/3661388221?profile=original
ATTENDEE;ROLE=REQ-PARTICIPANT;PARTSTAT=ACCEPTED;RSVP=TRUE;CN=Pinet:htt
 p://legacy.openaccessweek.org/profile/Pinet
END:VEVENT
END:VCALENDAR
