BEGIN:VCALENDAR
PRODID:NingEventWidget-v1
VERSION:2.0
METHOD:PUBLISH
BEGIN:VTIMEZONE
TZID:Pacific/Midway
X-LIC-LOCATION:Pacific/Midway
BEGIN:STANDARD
TZOFFSETFROM:-1100
TZOFFSETTO:-1100
TZNAME:SST
DTSTART:19700101T000000
END:STANDARD
END:VTIMEZONE
BEGIN:VEVENT
UID:5385115:Event:100870
DTSTAMP:20260423T041626Z
SUMMARY:Open Access Week Reception
DESCRIPTION:UBC Okanagan campus. Faculty, students, staff, and communi
 ty members are invited to come celebrate the beginning of Internationa
 l Open Access Week 2013 and the unveiling of the UBC's Okanagan Open A
 ccess Hall of Fame. Take some time to view the Open Access displays ar
 ound the library and learn about some of the exciting OA initiatives t
 aking place on campus. Light refreshments will be served in the Librar
 y.\n\nFor more information visit http://legacy.openaccessweek.org/even
 ts/open-access-week-reception
DTSTART;TZID=Pacific/Midway:20131021T100000
DTEND;TZID=Pacific/Midway:20131021T110000
CATEGORIES:reception
LOCATION:Main floor, UBC Okanagan Campus Library
WEBSITE:http://www.calendar.events.ubc.ca/cal/event/showEventMore.rdo;
 jsessionid=30B3528A13B514851A34526C28035098
URL:http://www.calendar.events.ubc.ca/cal/event/showEventMore.rdo;jses
 sionid=30B3528A13B514851A34526C28035098
CONTACT:250.807.9107
ORGANIZER;CN="UBC Okanagan Campus Library":http://legacy.openaccesswee
 k.org/profile/UBCOkanaganCampusLibrary
ATTACH;FMTTYPE="image/jpeg":http://storage.ning.com/topology/rest/1.0/
 file/get/3057484659?profile=original
ATTENDEE;ROLE=REQ-PARTICIPANT;PARTSTAT=ACCEPTED;RSVP=TRUE;CN="UBC Okan
 agan Campus Library":http://legacy.openaccessweek.org/profile/UBCOkana
 ganCampusLibrary
END:VEVENT
END:VCALENDAR
