BEGIN:VCALENDAR
PRODID:NingEventWidget-v1
VERSION:2.0
METHOD:PUBLISH
BEGIN:VTIMEZONE
TZID:Pacific/Midway
X-LIC-LOCATION:Pacific/Midway
BEGIN:STANDARD
TZOFFSETFROM:-1100
TZOFFSETTO:-1100
TZNAME:SST
DTSTART:19700101T000000
END:STANDARD
END:VTIMEZONE
BEGIN:VEVENT
UID:5385115:Event:159505
DTSTAMP:20260419T010637Z
SUMMARY:Wikipedia - föreläsning och workshop
DESCRIPTION:Wikipedia är en av de tio mest besökta webbplatserna i v
 ärlden, och ett enkelt sätt att sprida sina forskningsresultat. Du n
 år en stor publik – och samtidigt gör du Wikipedia bättre. En win
 -win-situation som bygger på fri tillgång till kunskap.  Men hur fun
 gerar det? Chalmers forskningskommunikatör Anita Fors håller en intr
 oduktion till hur du som forskare kan arbeta med Wikipedia. Efter för
 eläsningen kan du få hjälp att komma igång; starta ett användarko
 nto och börja redigera.  När: Onsdag 25/10 kl. 12-13 Var: Kuggen, Li
 ndholmsplatsen 1 Ingen anmälan behövs. Vi bjuder på lunchbaguette!\
 n\nFor more information visit http://legacy.openaccessweek.org/events/
 open-access-week-p-chalmers
DTSTART;TZID=Pacific/Midway:20171025T000000
DTEND;TZID=Pacific/Midway:20171025T130000
CATEGORIES:seminar
LOCATION:Sweden
WEBSITE:
URL:
CONTACT:
ORGANIZER;CN="Jessica Lindholm":http://legacy.openaccessweek.org/profi
 le/JessicaLindholm395
ATTACH;FMTTYPE="image/jpeg":
ATTENDEE;ROLE=REQ-PARTICIPANT;PARTSTAT=ACCEPTED;RSVP=TRUE;CN="Jessica 
 Lindholm":http://legacy.openaccessweek.org/profile/JessicaLindholm395
END:VEVENT
END:VCALENDAR
