BEGIN:VCALENDAR
PRODID:NingEventWidget-v1
VERSION:2.0
METHOD:PUBLISH
BEGIN:VTIMEZONE
TZID:Pacific/Midway
X-LIC-LOCATION:Pacific/Midway
BEGIN:STANDARD
TZOFFSETFROM:-1100
TZOFFSETTO:-1100
TZNAME:SST
DTSTART:19700101T000000
END:STANDARD
END:VTIMEZONE
BEGIN:VEVENT
UID:5385115:Event:161235
DTSTAMP:20260423T220056Z
SUMMARY:Open Access Week @ NWU Libraries
DESCRIPTION:OA journals has become a recognised part of the scholarly 
 communication landscape. Learning about OA will help you make informed
  choices about where to publish your work. The Library will be hostin
 g a session at our campus in Potchefstroom: \"Publishing with Predator
 y Journals dents your credibility to take an informed discussion on wh
 ere to publish\".  Copyright and Open Access will also be handled dur
 ing the launch of OA Week at our campus in Mahikeng.\n\nFor more infor
 mation visit http://legacy.openaccessweek.org/events/open-access-week-
 nwu-libraries
DTSTART;TZID=Pacific/Midway:20171023T103000
DTEND;TZID=Pacific/Midway:20171027T233000
CATEGORIES:presentations
LOCATION:30
WEBSITE:http://library.nwu.ac.za/open-access-week-2017
URL:http://library.nwu.ac.za/open-access-week-2017
CONTACT:+27 (0)16 910 3173
ORGANIZER:Hendra Oosthuizen
ATTACH;FMTTYPE="image/jpeg":http://storage.ning.com/topology/rest/1.0/
 file/get/3057593837?profile=original
ATTENDEE;ROLE=REQ-PARTICIPANT;PARTSTAT=ACCEPTED;RSVP=TRUE;CN="Elize va
 n Eldik":http://legacy.openaccessweek.org/profile/elizevaneldik
END:VEVENT
END:VCALENDAR
