BEGIN:VCALENDAR
PRODID:NingEventWidget-v1
VERSION:2.0
METHOD:PUBLISH
BEGIN:VTIMEZONE
TZID:Pacific/Midway
X-LIC-LOCATION:Pacific/Midway
BEGIN:STANDARD
TZOFFSETFROM:-1100
TZOFFSETTO:-1100
TZNAME:SST
DTSTART:19700101T000000
END:STANDARD
END:VTIMEZONE
BEGIN:VEVENT
UID:5385115:Event:148887
DTSTAMP:20260420T234518Z
SUMMARY:Open Access Week Ã  l'UniversitÃ© Toulouse 1 Capitole: libÃ©re
 z vos travaux de recherche!
DESCRIPTION:SEMAINE DU LIBRE ACCES A Lâ€™INFORMATION SCIENTIFIQUE:\nDU
  7 au 14 NOVEMBRE Liberez vos travaux de recherche\nÂ \nles bibliothÃ¨
 ques de lâ€™universitÃ© TOULOUSE CAPITOLE se mobilisent du 7 au 14 nov
 embreÂ !\nÂ \nAu programmeÂ :\n\nExposition Â«Â L'Open Access ou comme
 nt libÃ©rer la production scientifiqueÂ Â»\n\n\n\nWorkshops animÃ©s pa
 r le Service des publications des BibliothÃ¨ques de lâ€™UniversitÃ© av
 ec la participation de la Direction de la Recherche, de l'Observatoire
  et du Pilotage, DROP.\n\n\n\nLundi 07/11, 11h-12hÂ : Jeunes chercheur
 s, sortez du lotÂ ! Lâ€™open access au service de vos travaux\nMardi 0
 8/11, 11h-12hÂ : Juristes, adoptez lâ€™openaccess.comÂ ! Faites entrer
  vos travaux dans la nouvelle norme numÃ©rique\nMercredi 09/11, 11h-12
 hÂ : Doctorants, Ãªtes-vous open ? Lâ€™open access au service de votre
  thÃ¨se\nJeudi 10/11, 11h-12hÂ : D(r)OPEZ vos publicationsÂ : comptez 
 sur nousÂ  pour mieux vous faire connaitre\nLundi 14/11, 11h-12hÂ : RÃ
 ©pondez Ã  lâ€™appelÂ ! Lâ€™open accessÂ  au service vos demandes de f
 inancements\n\n\nÂ \n\nJeudi 10 novembre, ouverture de 9h30 Ã  15h30, 
 dâ€™un open access cafÃ©Â ! Toute une journÃ©e pour faire une Â«Â paus
 e-dÃ©pÃ´tÂ Â»Â et sâ€™informer sur les enjeux du libre accÃ¨s ou Ãªtre
  assistÃ© dans lâ€™utilisation de lâ€™archive ouverte institutionnelle
  Toulouse 1 Capitole Publications\n\nParticipation libre et sans inscr
 iption\n\nFor more information visit http://legacy.openaccessweek.org/
 events/open-access-week-l-universit-toulouse-1-capitole-lib-rez-vos
DTSTART;TZID=Pacific/Midway:20161107T000000
DTEND;TZID=Pacific/Midway:20161114T235900
CATEGORIES:exposition, workshop, discussion
LOCATION:France
WEBSITE:http://www.ut-capitole.fr/rubrique-outils/pied-de-page-liens-h
 orizontaux/plan-d-acces/
URL:http://www.ut-capitole.fr/rubrique-outils/pied-de-page-liens-horiz
 ontaux/plan-d-acces/
CONTACT:
ORGANIZER;CN="ChrystÃ¨le Galland-Mabic":http://legacy.openaccessweek.o
 rg/profile/ChrysteleGallandMabic
ATTACH;FMTTYPE="image/jpeg":
ATTENDEE;ROLE=REQ-PARTICIPANT;PARTSTAT=ACCEPTED;RSVP=TRUE;CN="ChrystÃ¨
 le Galland-Mabic":http://legacy.openaccessweek.org/profile/ChrysteleGa
 llandMabic
END:VEVENT
END:VCALENDAR
