BEGIN:VCALENDAR
PRODID:NingEventWidget-v1
VERSION:2.0
METHOD:PUBLISH
BEGIN:VTIMEZONE
TZID:Pacific/Midway
X-LIC-LOCATION:Pacific/Midway
BEGIN:STANDARD
TZOFFSETFROM:-1100
TZOFFSETTO:-1100
TZNAME:SST
DTSTART:19700101T000000
END:STANDARD
END:VTIMEZONE
BEGIN:VEVENT
UID:5385115:Event:173697
DTSTAMP:20260421T223622Z
SUMMARY:Open access Week in Havana University Libraries
DESCRIPTION:Our event will organize four activities to raise awareness
  of the issue of access to scholarly research.\n\nFor more information
  visit http://legacy.openaccessweek.org/events/open-access-week-in-hav
 ana-university-libraries
DTSTART;TZID=Pacific/Midway:20181022T220000
DTEND;TZID=Pacific/Midway:20181026T160000
CATEGORIES:workshops
LOCATION:Cuba
WEBSITE:https://www.google.com/maps/place/Biblioteca+Central+Rub%C3%A9
 n+Mart%C3%ADnez+Villena/@23.13598,-82.3846789,17z/data=!3m1!4b1!4m5!3m
 4!1s0x88cd79da2d81217d:0xbcde5dc985941750!8m2!3d23.1359751!4d-82.38249
 02
URL:https://www.google.com/maps/place/Biblioteca+Central+Rub%C3%A9n+Ma
 rt%C3%ADnez+Villena/@23.13598,-82.3846789,17z/data=!3m1!4b1!4m5!3m4!1s
 0x88cd79da2d81217d:0xbcde5dc985941750!8m2!3d23.1359751!4d-82.3824902
CONTACT:
ORGANIZER;CN="Yohannis Marti Lahera":http://legacy.openaccessweek.org/
 profile/YohannisMartiLahera
ATTACH;FMTTYPE="image/jpeg":http://storage.ning.com/topology/rest/1.0/
 file/get/3057612287?profile=original
ATTENDEE;ROLE=REQ-PARTICIPANT;PARTSTAT=ACCEPTED;RSVP=TRUE;CN="Yohannis
  Marti Lahera":http://legacy.openaccessweek.org/profile/YohannisMartiL
 ahera
END:VEVENT
END:VCALENDAR
