BEGIN:VCALENDAR
PRODID:NingEventWidget-v1
VERSION:2.0
METHOD:PUBLISH
BEGIN:VTIMEZONE
TZID:Pacific/Midway
X-LIC-LOCATION:Pacific/Midway
BEGIN:STANDARD
TZOFFSETFROM:-1100
TZOFFSETTO:-1100
TZNAME:SST
DTSTART:19700101T000000
END:STANDARD
END:VTIMEZONE
BEGIN:VEVENT
UID:5385115:Event:134746
DTSTAMP:20260425T113818Z
SUMMARY:Open access week in France
DESCRIPTION:Different events in France\n\nFor more information visit h
 ttp://legacy.openaccessweek.org/events/open-access-week-in-france
DTSTART;TZID=Pacific/Midway:20151012T180000
DTEND;TZID=Pacific/Midway:20151023T190000
CATEGORIES:workshops, conferences
LOCATION:France
WEBSITE:http://www.oaweekfrance.org/programme/
URL:http://www.oaweekfrance.org/programme/
CONTACT:
ORGANIZER:Couperin, french universities, MSH
ATTACH;FMTTYPE="image/jpeg":
ATTENDEE;ROLE=REQ-PARTICIPANT;PARTSTAT=ACCEPTED;RSVP=TRUE;CN="Antonin 
 Delpeuch":http://legacy.openaccessweek.org/profile/AntoninDelpeuch
ATTENDEE;ROLE=REQ-PARTICIPANT;PARTSTAT=ACCEPTED;RSVP=TRUE;CN="Marjolai
 ne Suchel":http://legacy.openaccessweek.org/profile/Suchel
END:VEVENT
END:VCALENDAR
