BEGIN:VCALENDAR
PRODID:NingEventWidget-v1
VERSION:2.0
METHOD:PUBLISH
BEGIN:VTIMEZONE
TZID:Pacific/Midway
X-LIC-LOCATION:Pacific/Midway
BEGIN:STANDARD
TZOFFSETFROM:-1100
TZOFFSETTO:-1100
TZNAME:SST
DTSTART:19700101T000000
END:STANDARD
END:VTIMEZONE
BEGIN:VEVENT
UID:5385115:Event:134265
DTSTAMP:20260422T151501Z
SUMMARY:Open Access Week Hong Kong
DESCRIPTION:Data Services & Open Access Publishing Workshop\nIn celebr
 ation of Open Access Week 2015, Hong Kong Baptist University Library i
 s pleased to host a lunchtime workshop for researchers (sandwiches pro
 vided)\n\na Library workshop for those who want to know more about:\n\
 nÂžbackground of why research data and publications are increasingly â
 €śopenâ€ť\nÂžnavigating shifting requirements: from funding agencies t
 o publishers\nÂžhow librarians can help in the early stages of researc
 hâ€”data management plans, collaborative projects\nÂžhow librarians ca
 n help in the later stages of researchâ€”copyright advice, promoting y
 our published research through open access\n\nTo register, please ente
 r your name and contact info\nLocation:\nHong Kong Baptist University,
  Academic & Administration Building, Room 301\n\n\n\nFor more informat
 ion visit http://legacy.openaccessweek.org/events/open-access-week-hon
 g-kong
DTSTART;TZID=Pacific/Midway:20151022T120000
DTEND;TZID=Pacific/Midway:20151022T133000
CATEGORIES:workshop
LOCATION:Hong Kong
WEBSITE:https://www.google.com.hk/maps/place/Academic+and+Administrati
 on+Bldg,+Baptist+University+Rd,+Kowloon+Tsai/@22.336484,114.1824553,17
 z/data=!3m1!4b1!4m2!3m1!1s0x3404072e5ca27279:0xff29344631fcccf2
URL:https://www.google.com.hk/maps/place/Academic+and+Administration+B
 ldg,+Baptist+University+Rd,+Kowloon+Tsai/@22.336484,114.1824553,17z/da
 ta=!3m1!4b1!4m2!3m1!1s0x3404072e5ca27279:0xff29344631fcccf2
CONTACT:
ORGANIZER;CN="Brian Minihan":http://legacy.openaccessweek.org/profile/
 BrianMinihan
ATTACH;FMTTYPE="image/jpeg":http://storage.ning.com/topology/rest/1.0/
 file/get/3057559037?profile=original
ATTENDEE;ROLE=REQ-PARTICIPANT;PARTSTAT=ACCEPTED;RSVP=TRUE;CN="Brian Mi
 nihan":http://legacy.openaccessweek.org/profile/BrianMinihan
END:VEVENT
END:VCALENDAR
