BEGIN:VCALENDAR
PRODID:NingEventWidget-v1
VERSION:2.0
METHOD:PUBLISH
BEGIN:VTIMEZONE
TZID:Pacific/Midway
X-LIC-LOCATION:Pacific/Midway
BEGIN:STANDARD
TZOFFSETFROM:-1100
TZOFFSETTO:-1100
TZNAME:SST
DTSTART:19700101T000000
END:STANDARD
END:VTIMEZONE
BEGIN:VEVENT
UID:5385115:Event:291929
DTSTAMP:20260421T061702Z
SUMMARY:Open Access week Exhibition
DESCRIPTION:There will be an exhibit all week (9:00am to 4:00 pm) in t
 he library lobby with information about open access, the KAUST open ac
 cess policy, and the library’s new open access publishing agreements
 . Drop by to play games, win prizes, and get answers to your questions
  about open access!\n\nFor more information visit http://legacy.openac
 cessweek.org/events/open-access-week-exhibition
DTSTART;TZID=Pacific/Midway:20211024T090000
DTEND;TZID=Pacific/Midway:20211028T160000
CATEGORIES:exhibition
LOCATION:Saudi Arabia
WEBSITE:https://library.kaust.edu.sa/oa2021
URL:https://library.kaust.edu.sa/oa2021
CONTACT:
ORGANIZER;CN="Mohamed Baessa":http://legacy.openaccessweek.org/profile
 /MohamedBaessa
ATTACH;FMTTYPE="image/jpeg":
ATTENDEE;ROLE=REQ-PARTICIPANT;PARTSTAT=ACCEPTED;RSVP=TRUE;CN="Mohamed 
 Baessa":http://legacy.openaccessweek.org/profile/MohamedBaessa
END:VEVENT
END:VCALENDAR
