BEGIN:VCALENDAR
PRODID:NingEventWidget-v1
VERSION:2.0
METHOD:PUBLISH
BEGIN:VTIMEZONE
TZID:Pacific/Midway
X-LIC-LOCATION:Pacific/Midway
BEGIN:STANDARD
TZOFFSETFROM:-1100
TZOFFSETTO:-1100
TZNAME:SST
DTSTART:19700101T000000
END:STANDARD
END:VTIMEZONE
BEGIN:VEVENT
UID:5385115:Event:74734
DTSTAMP:20260420T215234Z
SUMMARY:Open Access Week Event at MacEwan University
DESCRIPTION:Happily Open After: Engaging Your Students with Open Acces
 s Resources\nRoom 7-266A, Faculty Commons, City Centre Campus\nOnce up
 on a time there was a university graduate who no longer had access to 
 reliable research literature (or so they thought). Open Access resourc
 es can prevent this from happening, as they provide public access to c
 redible, peer-reviewed sources freely available on the Internet.\nIn c
 elebration of Open Access Week, this session will provide an overview 
 of Open Access publishing and tools to help faculty engage students wi
 th Open Access resources, including classroom activities, assignment i
 deas, and student publishing opportunities.\nPresented by Robyn Hall, 
 MacEwan University’s research librarian.  For details and to RSVP co
 ntact Robyn at hallr27@MacEwan.ca\n\nFor more information visit http:/
 /legacy.openaccessweek.org/events/open-access-week-event-at-macewan-un
 iversity
DTSTART;TZID=Pacific/Midway:20121024T130000
DTEND;TZID=Pacific/Midway:20121024T140000
CATEGORIES:workshop
LOCATION:Grant MacEwan University
WEBSITE:
URL:
CONTACT:
ORGANIZER;CN="Robyn Hall":http://legacy.openaccessweek.org/profile/Rob
 ynHall639
ATTACH;FMTTYPE="image/jpeg":
ATTENDEE;ROLE=REQ-PARTICIPANT;PARTSTAT=ACCEPTED;RSVP=TRUE;CN="Robyn Ha
 ll":http://legacy.openaccessweek.org/profile/RobynHall639
END:VEVENT
END:VCALENDAR
