BEGIN:VCALENDAR
PRODID:NingEventWidget-v1
VERSION:2.0
METHOD:PUBLISH
BEGIN:VTIMEZONE
TZID:Pacific/Midway
X-LIC-LOCATION:Pacific/Midway
BEGIN:STANDARD
TZOFFSETFROM:-1100
TZOFFSETTO:-1100
TZNAME:SST
DTSTART:19700101T000000
END:STANDARD
END:VTIMEZONE
BEGIN:VEVENT
UID:5385115:Event:72597
DTSTAMP:20260420T220229Z
SUMMARY:Open Access Week @ European University Institute, Florence
DESCRIPTION:Monday 22nd: The European University Institute (EUI) sig
 ns the Budapest Open Access Initiative  (BOAI) on its 10th anniver
 sary\nTuesday 23rd: Open Access Information desk at the EUI (Badia) b
 etween 12 and 14\nWednesday 24th: Round Table Open Access and Schola
 rly Publishing in the Digital Age: The Way Ahead? from 9 to 13\nThurs
 day 25th: Open Access Information desk at the EUI (Badia) between 12
  and 14\nDownload poster 'OA week events @ EUI'  \nAll week:\nAsk EU
 I Library Staff about Open Access\nReadings:\nOpen Access at the EUI\n
 Questions?\nContact: cadmus@eui.eu\n\nFor more information visit http
 ://legacy.openaccessweek.org/events/open-access-week-european-universi
 ty-institute-florence
DTSTART;TZID=Pacific/Midway:20121022T000000
DTEND;TZID=Pacific/Midway:20121027T235900
CATEGORIES:roundtable, information, desk
LOCATION:EUI - Badia Fiesolana
WEBSITE:http://www.eui.eu/Research/EUIPublications/News/2012/10-11-OAW
 eekAtEUI-Events.aspx
URL:http://www.eui.eu/Research/EUIPublications/News/2012/10-11-OAWeekA
 tEUI-Events.aspx
CONTACT:+39-055-4685368
ORGANIZER;CN="Lotta Svantesson":http://legacy.openaccessweek.org/profi
 le/LottaSvantesson
ATTACH;FMTTYPE="image/jpeg":http://storage.ning.com/topology/rest/1.0/
 file/get/3057498400?profile=original
ATTENDEE;ROLE=REQ-PARTICIPANT;PARTSTAT=ACCEPTED;RSVP=TRUE;CN="Lotta Sv
 antesson":http://legacy.openaccessweek.org/profile/LottaSvantesson
END:VEVENT
END:VCALENDAR
