BEGIN:VCALENDAR
PRODID:NingEventWidget-v1
VERSION:2.0
METHOD:PUBLISH
BEGIN:VTIMEZONE
TZID:Pacific/Midway
X-LIC-LOCATION:Pacific/Midway
BEGIN:STANDARD
TZOFFSETFROM:-1100
TZOFFSETTO:-1100
TZNAME:SST
DTSTART:19700101T000000
END:STANDARD
END:VTIMEZONE
BEGIN:VEVENT
UID:5385115:Event:103006
DTSTAMP:20260425T085428Z
SUMMARY:Open Access Week celebration in the University of Latvia
DESCRIPTION:The University of Latvia is celebrating the 5th anniversar
 y of Open Access movement in Latvia. On the 24th October there will be
  held scientific café - discussion named \"Copyrights in an open acce
 ss: burden or opportunity?!\" The attention will be turned towards suc
 h subjects as the transfer of the author`s works into the usage withou
 t reimbursement within the regulations of Latvia`s legal system; Creat
 ive Commons licenses; the experience of publishing in Latvian Open Acc
 ess journal \"Environmental and Experimental Biology\"; an overview ab
 out Open Access legislation in European Countries - why is ENCES so im
 portant.\nDuring the discussion the University of Latvia Library`s sta
 ff will introduce with Open Access movement's goals and importance and
  will present the results of \"Open Access\" questionnaire, which was 
 created to find out the awareness amongst University`s academic and re
 search personnel of Open Access movement as well as their experience i
 n publishing whilst using Open Access. The participants of the discuss
 ion will be able to watch a video which is devoted to Open Access move
 ment in Latvia as well as enlightening about the Open Access week`s ev
 ents in the university from previous years. There will also be opportu
 nity to watch it on University`s website.\nAlso the staff of Universit
 y`s Library have prepared an electronic booklet about the questions of
  copyrights of scientific electronic publications, which will be prese
 nted to the University`s Academic Staff.\n\nFor more information visit
  http://legacy.openaccessweek.org/events/open-access-week-celebration-
 in-the-university-of-latvia
DTSTART;TZID=Pacific/Midway:20131024T180000
DTEND;TZID=Pacific/Midway:20131024T200000
CATEGORIES:discussion
LOCATION:University of Latvia, the Main building
WEBSITE:http://www.lu.lv/biblioteka/par-biblioteku/aktivitates/open-ac
 cess-nedela-2013/
URL:http://www.lu.lv/biblioteka/par-biblioteku/aktivitates/open-access
 -nedela-2013/
CONTACT:
ORGANIZER:Gita Rozenberga
ATTACH;FMTTYPE="image/jpeg":http://storage.ning.com/topology/rest/1.0/
 file/get/3057529939?profile=original
ATTENDEE;ROLE=REQ-PARTICIPANT;PARTSTAT=ACCEPTED;RSVP=TRUE;CN="Sandra R
 anka":http://legacy.openaccessweek.org/profile/SandraRanka
END:VEVENT
END:VCALENDAR
