BEGIN:VCALENDAR
PRODID:NingEventWidget-v1
VERSION:2.0
METHOD:PUBLISH
BEGIN:VTIMEZONE
TZID:Pacific/Midway
X-LIC-LOCATION:Pacific/Midway
BEGIN:STANDARD
TZOFFSETFROM:-1100
TZOFFSETTO:-1100
TZNAME:SST
DTSTART:19700101T000000
END:STANDARD
END:VTIMEZONE
BEGIN:VEVENT
UID:5385115:Event:50687
DTSTAMP:20260420T234715Z
SUMMARY:Open Access Week at University of Salamanca (Spain)
DESCRIPTION:The University of Salamanca participates in Open Access We
 ek. The scheduled activities aim to make known the initiatives related
  to open access of scientific production and stimulate the use of inst
 itutional repositories as effective systems to promoting scientific an
 d scholarly content.\nSee the program at:El Blog de Gredos\n\nFor more
  information visit http://legacy.openaccessweek.org/events/open-access
 -week-at-university-of-salamanca-spain
DTSTART;TZID=Pacific/Midway:20111024T000000
DTEND;TZID=Pacific/Midway:20111030T235900
CATEGORIES:marketing, activities, advertising, brochures, round, table
 , conferences
LOCATION:Salamanca (Spain)
WEBSITE:http://bibliotecas.usal.es
URL:http://bibliotecas.usal.es
CONTACT:
ORGANIZER:Universidad de Salamanca
ATTACH;FMTTYPE="image/jpeg":http://storage.ning.com/topology/rest/1.0/
 file/get/3057483243?profile=original
ATTENDEE;ROLE=REQ-PARTICIPANT;PARTSTAT=ACCEPTED;RSVP=TRUE;CN="José Pa
 blo Gallo León":http://legacy.openaccessweek.org/profile/JosePabloGal
 loLeon
ATTENDEE;ROLE=REQ-PARTICIPANT;PARTSTAT=ACCEPTED;RSVP=TRUE;CN="Tránsit
 o Ferreras Fernández":http://legacy.openaccessweek.org/profile/Transi
 toFerrerasFernandez
END:VEVENT
END:VCALENDAR
