BEGIN:VCALENDAR
PRODID:NingEventWidget-v1
VERSION:2.0
METHOD:PUBLISH
BEGIN:VTIMEZONE
TZID:Pacific/Midway
X-LIC-LOCATION:Pacific/Midway
BEGIN:STANDARD
TZOFFSETFROM:-1100
TZOFFSETTO:-1100
TZNAME:SST
DTSTART:19700101T000000
END:STANDARD
END:VTIMEZONE
BEGIN:VEVENT
UID:5385115:Event:75479
DTSTAMP:20260420T220411Z
SUMMARY:Open Access Week at University of Salamanca (Spain)
DESCRIPTION:The University of Salamanca participates, again this year,
  in Open Access Week. The scheduled activities aim to make known the i
 nitiatives developed  to open access in the USAL  (Institutional Rep
 ository Gredos, University Open Access Journals and Open Course Ware).
   At the same time it aims to increase the involvement of researchers
  in the open access dissemination of scientific production in public i
 nstitutions.\nSee the program events at: Blog de Gredos\n\nFor more in
 formation visit http://legacy.openaccessweek.org/events/open-access-we
 ek-at-university-of-salamanca-spain-1
DTSTART;TZID=Pacific/Midway:20121022T000000
DTEND;TZID=Pacific/Midway:20121028T235900
CATEGORIES:marketing, advocacy, activities
LOCATION:Salamanca, Spain
WEBSITE:http://diarium.usal.es/gredos/2012/10/18/semana-internacional-
 del-acceso-abierto-en-la-universidad-de-salamanca-2/
URL:http://diarium.usal.es/gredos/2012/10/18/semana-internacional-del-
 acceso-abierto-en-la-universidad-de-salamanca-2/
CONTACT:
ORGANIZER:Universidad de Salamanca
ATTACH;FMTTYPE="image/jpeg":http://storage.ning.com/topology/rest/1.0/
 file/get/3001463494?profile=original
ATTENDEE;ROLE=REQ-PARTICIPANT;PARTSTAT=ACCEPTED;RSVP=TRUE;CN="Jose Ant
 onio Merlo Vega":http://legacy.openaccessweek.org/profile/JoseAntonioM
 erloVega
ATTENDEE;ROLE=REQ-PARTICIPANT;PARTSTAT=ACCEPTED;RSVP=TRUE;CN="Tránsit
 o Ferreras Fernández":http://legacy.openaccessweek.org/profile/Transi
 toFerrerasFernandez
END:VEVENT
END:VCALENDAR
