BEGIN:VCALENDAR
PRODID:NingEventWidget-v1
VERSION:2.0
METHOD:PUBLISH
BEGIN:VTIMEZONE
TZID:Pacific/Midway
X-LIC-LOCATION:Pacific/Midway
BEGIN:STANDARD
TZOFFSETFROM:-1100
TZOFFSETTO:-1100
TZNAME:SST
DTSTART:19700101T000000
END:STANDARD
END:VTIMEZONE
BEGIN:VEVENT
UID:5385115:Event:147598
DTSTAMP:20260419T021231Z
SUMMARY:Open Access Week at University of Connecticut
DESCRIPTION:The Intersections Between Open Access, Open Educational 
 Resources & Author Rights\n12:00-1:15pm\n\nEmpowering Authors through 
 Publication Agreements\nOpen Access Flavors\nOA? OER? What’s the Dif
 ference?\n\n1:30-3:15pm\n\nORCID ID’s\nEntering the Creative Commons
 \nManaging Your Scholarly ID Online\nUConn’s Research Data Repositor
 y\n\n\nFor more information visit http://legacy.openaccessweek.org/eve
 nts/open-access-week-at-university-of-connecticut
DTSTART;TZID=Pacific/Midway:20161026T120000
DTEND;TZID=Pacific/Midway:20161026T153000
CATEGORIES:"workshop/lecture"
LOCATION:United States of America
WEBSITE:http://open.uconn.edu
URL:http://open.uconn.edu
CONTACT:
ORGANIZER;CN="Jean Nelson":http://legacy.openaccessweek.org/profile/Je
 anNelson
ATTACH;FMTTYPE="image/jpeg":http://storage.ning.com/topology/rest/1.0/
 file/get/3057579880?profile=original
ATTENDEE;ROLE=REQ-PARTICIPANT;PARTSTAT=ACCEPTED;RSVP=TRUE;CN="Jean Nel
 son":http://legacy.openaccessweek.org/profile/JeanNelson
END:VEVENT
END:VCALENDAR
