BEGIN:VCALENDAR
PRODID:NingEventWidget-v1
VERSION:2.0
METHOD:PUBLISH
BEGIN:VTIMEZONE
TZID:Pacific/Midway
X-LIC-LOCATION:Pacific/Midway
BEGIN:STANDARD
TZOFFSETFROM:-1100
TZOFFSETTO:-1100
TZNAME:SST
DTSTART:19700101T000000
END:STANDARD
END:VTIMEZONE
BEGIN:VEVENT
UID:5385115:Event:174836
DTSTAMP:20260421T205119Z
SUMMARY:Open Access Week at Universitat Politècnica de Catalunya (UPC
 )
DESCRIPTION:Many activities and initiatives will take place during the
  OAW18. Take a look to the programme: \nhttps://apps.bibliotecnica.up
 c.edu/informacions/SGB/S306/index.php\n\n\nFor more information visit 
 http://legacy.openaccessweek.org/events/open-access-week-at-universita
 t-polit-cnica-de-catalunya-upc
DTSTART;TZID=Pacific/Midway:20181018T180000
DTEND;TZID=Pacific/Midway:20181028T190000
CATEGORIES:open, access, week, 2018, activities
LOCATION:Spain
WEBSITE:https://apps.bibliotecnica.upc.edu/informacions/SGB/S306/index
 .php
URL:https://apps.bibliotecnica.upc.edu/informacions/SGB/S306/index.php
CONTACT:00 34 934 015 829
ORGANIZER;CN="Anna Rovira":http://legacy.openaccessweek.org/profile/An
 naRovira
ATTACH;FMTTYPE="image/jpeg":http://storage.ning.com/topology/rest/1.0/
 file/get/3057617713?profile=original
ATTENDEE;ROLE=REQ-PARTICIPANT;PARTSTAT=ACCEPTED;RSVP=TRUE;CN="Anna Rov
 ira":http://legacy.openaccessweek.org/profile/AnnaRovira
END:VEVENT
END:VCALENDAR
