BEGIN:VCALENDAR
PRODID:NingEventWidget-v1
VERSION:2.0
METHOD:PUBLISH
BEGIN:VTIMEZONE
TZID:Pacific/Midway
X-LIC-LOCATION:Pacific/Midway
BEGIN:STANDARD
TZOFFSETFROM:-1100
TZOFFSETTO:-1100
TZNAME:SST
DTSTART:19700101T000000
END:STANDARD
END:VTIMEZONE
BEGIN:VEVENT
UID:5385115:Event:9538
DTSTAMP:20260419T071223Z
SUMMARY:Open Access Week at RECOLECTA, the open access door to Spanish
  research outputs
DESCRIPTION:RECOLECTA presents the activities that will be organized i
 n Spain throughout the week,\n\nFor more information visit http://lega
 cy.openaccessweek.org/events/open-access-week-at-recolecta
DTSTART;TZID=Pacific/Midway:20101020T000000
DTEND;TZID=Pacific/Midway:20101024T235900
CATEGORIES:conferences, workshops, round, tables, and, "more...."
LOCATION:Spain
WEBSITE:http://www.recolecta.net/buscador/
URL:http://www.recolecta.net/buscador/
CONTACT:
ORGANIZER:RECOLECTA
ATTACH;FMTTYPE="image/jpeg":http://storage.ning.com/topology/rest/1.0/
 file/get/2945966700?profile=original
ATTENDEE;ROLE=REQ-PARTICIPANT;PARTSTAT=ACCEPTED;RSVP=TRUE;CN="Alicia L
 opez Medina":http://legacy.openaccessweek.org/profile/AliciaLopezMedin
 a
END:VEVENT
END:VCALENDAR
