BEGIN:VCALENDAR
PRODID:NingEventWidget-v1
VERSION:2.0
METHOD:PUBLISH
BEGIN:VTIMEZONE
TZID:Pacific/Midway
X-LIC-LOCATION:Pacific/Midway
BEGIN:STANDARD
TZOFFSETFROM:-1100
TZOFFSETTO:-1100
TZNAME:SST
DTSTART:19700101T000000
END:STANDARD
END:VTIMEZONE
BEGIN:VEVENT
UID:5385115:Event:162667
DTSTAMP:20260423T071953Z
SUMMARY:Open Access Week at Kyiv Mohyla Academy
DESCRIPTION:25 жовтня (середа), 10-00\nЦифрова бі
 бліотека Києва: Презентація проекту Н
 УКМА, що поданий на Громадський бюдже
  Києва (проект № 679, хто ще не проголос
 вав, підтримайте! \nПроводить Чорна Те
 тяна, директор наукової бібліотеки На
 КМА  Де: Американська бібліотека імен
 і Віктора Китастого НаУКМА, 4-118\n\nFor more i
 nformation visit http://legacy.openaccessweek.org/events/open-access-w
 eek-at-kyiv-mohyla-academy-2
DTSTART;TZID=Pacific/Midway:20171025T100000
DTEND;TZID=Pacific/Midway:20171025T110000
CATEGORIES:presentation
LOCATION:Ukraine
WEBSITE:http://csdrs.ukma.edu.ua/index.php/uk/novyny/43-programa-tizhn
 ya-vidkritogo-dostupu-v-naukma
URL:http://csdrs.ukma.edu.ua/index.php/uk/novyny/43-programa-tizhnya-v
 idkritogo-dostupu-v-naukma
CONTACT:
ORGANIZER;CN="Tetiana Yaroshenko":http://legacy.openaccessweek.org/pro
 file/TetianaYaroshenko389
ATTACH;FMTTYPE="image/jpeg":http://storage.ning.com/topology/rest/1.0/
 file/get/3057598837?profile=original
ATTENDEE;ROLE=REQ-PARTICIPANT;PARTSTAT=ACCEPTED;RSVP=TRUE;CN="Tetiana 
 Yaroshenko":http://legacy.openaccessweek.org/profile/TetianaYaroshenko
 389
END:VEVENT
END:VCALENDAR
