BEGIN:VCALENDAR
PRODID:NingEventWidget-v1
VERSION:2.0
METHOD:PUBLISH
BEGIN:VTIMEZONE
TZID:Pacific/Midway
X-LIC-LOCATION:Pacific/Midway
BEGIN:STANDARD
TZOFFSETFROM:-1100
TZOFFSETTO:-1100
TZNAME:SST
DTSTART:19700101T000000
END:STANDARD
END:VTIMEZONE
BEGIN:VEVENT
UID:5385115:Event:157922
DTSTAMP:20260424T150205Z
SUMMARY:Open Access Week 2017 @ Aristotle University of Thessaloniki
DESCRIPTION:The programme of the event will be announced soon.\n\nFor 
 more information visit http://legacy.openaccessweek.org/events/open-ac
 cess-week-2017-aristotle-university-of-thessaloniki
DTSTART;TZID=Pacific/Midway:20171024T100000
DTEND;TZID=Pacific/Midway:20171024T150000
CATEGORIES:one-day, conference, workshop
LOCATION:Greece
WEBSITE:
URL:
CONTACT:2310995480
ORGANIZER:AUTh Library &amp; Information Centre
ATTACH;FMTTYPE="image/jpeg":
ATTENDEE;ROLE=REQ-PARTICIPANT;PARTSTAT=ACCEPTED;RSVP=TRUE;CN="AUTh Lib
 rary Website Team":http://legacy.openaccessweek.org/profile/AUThLibrar
 yWebsiteTeam
END:VEVENT
END:VCALENDAR
