BEGIN:VCALENDAR
PRODID:NingEventWidget-v1
VERSION:2.0
METHOD:PUBLISH
BEGIN:VTIMEZONE
TZID:Pacific/Midway
X-LIC-LOCATION:Pacific/Midway
BEGIN:STANDARD
TZOFFSETFROM:-1100
TZOFFSETTO:-1100
TZNAME:SST
DTSTART:19700101T000000
END:STANDARD
END:VTIMEZONE
BEGIN:VEVENT
UID:5385115:Event:135947
DTSTAMP:20260423T020400Z
SUMMARY:Open Access Week 2015 â€“ Letâ€™s Collaborate! Boost your Cita
 tions and Visibility
DESCRIPTION:Calling allÂ Bay Area researchers - how will you increase 
 the visibility of and citations to your work? Not alone, is the answer
 !Â \nOpen Access Week is comingâ€”with a 2015 focus on collaborationâ€
 ”and you are invited to a special event to discuss ways in which you c
 an give your research a boost by working together and sharing what you
  do.\nJoin us onÂ October 21stÂ 2015 from 4:00-5:30pmÂ at UCSFâ€™s Mis
 sion Bay campus, at UCSF Mission Bay campusÂ 1450 3rdÂ Street, in theÂ
  Helen Diller Family Cancer Research Building, room 160.\nFollow our h
 astag #OAW15SFÂ \nÂ \nDuring your time with us, we will serve you tast
 y snacks and drinks, plus have an array of free branded items for you 
 to choose from! Â \nLenny TeytelmanÂ fromÂ Protocols.io, will be our g
 enial moderator for the evening. He will be making sure the following 
 topics get presented during short lightning talks, and that our speake
 rs keep to time. Â For more information on the program and to RSVP, ch
 eck our eventbrite page\nhttp://www.eventbrite.com/e/open-access-week-
 2015-lets-collaborate-boost-your-citations-and-visibility-tickets-1883
 4354060\n\n\nCo-organized and sponsored by:Â TheÂ UCSF Library,Â MySci
 enceWork,Â ScienceOpen,Â Protocols.io,Â Mendeley,Â PeerJ,Â Collabra/UC
  Press.\n\nFor more information visit http://legacy.openaccessweek.org
 /events/open-access-week-2015-let-s-collaborate-boost-your-citations-a
 nd
DTSTART;TZID=Pacific/Midway:20151021T160000
DTEND;TZID=Pacific/Midway:20151021T200000
CATEGORIES:lightening, talks
LOCATION:United States of America
WEBSITE:http://www.eventbrite.com/e/open-access-week-2015-lets-collabo
 rate-boost-your-citations-and-visibility-tickets-18834354060
URL:http://www.eventbrite.com/e/open-access-week-2015-lets-collaborate
 -boost-your-citations-and-visibility-tickets-18834354060
CONTACT:415 579 6125
ORGANIZER:The UCSF Library, MyScienceWork, ScienceOpen, Protocols.io, 
 Mendeley, PeerJ, Collabra/UC Press
ATTACH;FMTTYPE="image/jpeg":http://storage.ning.com/topology/rest/1.0/
 file/get/3057566073?profile=original
ATTENDEE;ROLE=REQ-PARTICIPANT;PARTSTAT=ACCEPTED;RSVP=TRUE;CN="Laurence
  Bianchini":http://legacy.openaccessweek.org/profile/LaurenceBianchini
END:VEVENT
END:VCALENDAR
