BEGIN:VCALENDAR
PRODID:NingEventWidget-v1
VERSION:2.0
METHOD:PUBLISH
BEGIN:VTIMEZONE
TZID:Pacific/Midway
X-LIC-LOCATION:Pacific/Midway
BEGIN:STANDARD
TZOFFSETFROM:-1100
TZOFFSETTO:-1100
TZNAME:SST
DTSTART:19700101T000000
END:STANDARD
END:VTIMEZONE
BEGIN:VEVENT
UID:5385115:Event:113371
DTSTAMP:20260423T134023Z
SUMMARY:Open Access Week 2014 Kick-Off
DESCRIPTION:The University Libraries is delighted to participate in th
 e celebration of Open Access Week 2014 (October 20thto 26th). The them
 e for this year’s celebration is “Generation Open.”\n\nFor more 
 information visit http://legacy.openaccessweek.org/events/open-access-
 week-2014-kick-off
DTSTART;TZID=Pacific/Midway:20141020T000000
DTEND;TZID=Pacific/Midway:20141020T235900
CATEGORIES:oa, week, celebration
LOCATION:Center for British and Irish Studies M549 Norlin Library
WEBSITE:
URL:
CONTACT:
ORGANIZER;CN="Jennifer Chan":http://legacy.openaccessweek.org/profile/
 JenniferChan
ATTACH;FMTTYPE="image/jpeg":
ATTENDEE;ROLE=REQ-PARTICIPANT;PARTSTAT=ACCEPTED;RSVP=TRUE;CN="Jennifer
  Chan":http://legacy.openaccessweek.org/profile/JenniferChan
END:VEVENT
END:VCALENDAR
