BEGIN:VCALENDAR
PRODID:NingEventWidget-v1
VERSION:2.0
METHOD:PUBLISH
BEGIN:VTIMEZONE
TZID:Pacific/Midway
X-LIC-LOCATION:Pacific/Midway
BEGIN:STANDARD
TZOFFSETFROM:-1100
TZOFFSETTO:-1100
TZNAME:SST
DTSTART:19700101T000000
END:STANDARD
END:VTIMEZONE
BEGIN:VEVENT
UID:5385115:Event:118992
DTSTAMP:20260421T010446Z
SUMMARY:Open Access Week 2014@Egypt
DESCRIPTION:Celebrating Open Access in Egypt for the 5th year during 2
 3-27 October.\n\nFor more information visit http://legacy.openaccesswe
 ek.org/events/open-access-week-2014-egypt
DTSTART;TZID=Pacific/Midway:20141023T000000
DTEND;TZID=Pacific/Midway:20141027T235900
CATEGORIES:workshops, seminars, and, discussions
LOCATION:Alexandria University
WEBSITE:
URL:
CONTACT:
ORGANIZER;CN="Mandy Taha":http://legacy.openaccessweek.org/profile/Man
 dyTaha
ATTACH;FMTTYPE="image/jpeg":
ATTENDEE;ROLE=REQ-PARTICIPANT;PARTSTAT=ACCEPTED;RSVP=TRUE;CN="Mandy Ta
 ha":http://legacy.openaccessweek.org/profile/MandyTaha
END:VEVENT
END:VCALENDAR
