BEGIN:VCALENDAR
PRODID:NingEventWidget-v1
VERSION:2.0
METHOD:PUBLISH
BEGIN:VTIMEZONE
TZID:Pacific/Midway
X-LIC-LOCATION:Pacific/Midway
BEGIN:STANDARD
TZOFFSETFROM:-1100
TZOFFSETTO:-1100
TZNAME:SST
DTSTART:19700101T000000
END:STANDARD
END:VTIMEZONE
BEGIN:VEVENT
UID:5385115:Event:102047
DTSTAMP:20260424T154908Z
SUMMARY:Open Access Week 2013 in Ethiopia
DESCRIPTION:Addis Ababa University Libraries will join International
  Open Access (OA) Week 2013 celebrations by hosting a workshop on ope
 n access publishing on October 22, 2013 at the Semen Hotel in Addis Ab
 aba, Ethiopia.\n\nFor more information visit http://legacy.openaccessw
 eek.org/events/open-access-week-2013-in-ethiopia
DTSTART;TZID=Pacific/Midway:20131022T000000
DTEND;TZID=Pacific/Midway:20131022T235900
CATEGORIES:workshop
LOCATION:Semen Hotel
WEBSITE:http://www.eifl.net/events/open-access-week-2013-ethiopia
URL:http://www.eifl.net/events/open-access-week-2013-ethiopia
CONTACT:
ORGANIZER:Addis Ababa University Libraries
ATTACH;FMTTYPE="image/jpeg":
ATTENDEE;ROLE=REQ-PARTICIPANT;PARTSTAT=ACCEPTED;RSVP=TRUE;CN="Iryna Ku
 chma":http://legacy.openaccessweek.org/profile/IrynaKuchma
END:VEVENT
END:VCALENDAR
