BEGIN:VCALENDAR
PRODID:NingEventWidget-v1
VERSION:2.0
METHOD:PUBLISH
BEGIN:VTIMEZONE
TZID:Pacific/Midway
X-LIC-LOCATION:Pacific/Midway
BEGIN:STANDARD
TZOFFSETFROM:-1100
TZOFFSETTO:-1100
TZNAME:SST
DTSTART:19700101T000000
END:STANDARD
END:VTIMEZONE
BEGIN:VEVENT
UID:5385115:Event:103889
DTSTAMP:20260425T142110Z
SUMMARY:OPEN ACCESS WEEK 2013 AU SENEGAL : un panel autour de lâ€™accĂ
 ¨s ouvert Ă  la BU
DESCRIPTION:\n\n\n\n\n\n\n\n\n\n\n\n\n\n\n\n\n\n\n\n\n\n\n\n\n\n\nOPEN
  ACCESS WEEK 2013 AU SENEGALÂ \nPanel autour de lâ€™accĂ¨s ouvert Ă  l
 a BU\nThĂ¨me gĂ©nĂ©ralÂ : Lâ€™UCAD pour lâ€™AccĂ¨s Ouvert aux Publicat
 ions scientifiques et techniques\nDateÂ : mercredi 23 octobre 2013.\nH
 eureÂ : 9H 30 -12H 00\nLieuÂ : Atrium de la BibliothĂ¨que Universitair
 e de lâ€™UCAD\nSous â€“thĂ¨mes :\n- Historique de la semaine de lâ€™Op
 en AccessÂ ;\n- DĂ©pĂ´t institutionnel en AccĂ¨s libre Ă  lâ€™UCADÂ ;\
 n- Les diffĂ©rents modĂ¨les de lâ€™Open AccessÂ dans le mondeÂ ;\n- En
 jeux de lâ€™AccĂ¨s Ouvert dans les pays en dĂ©veloppement.\nSpeakersÂ 
 :\n- Mme Nafisatou Bakhoum, Conservateur des BibliothĂ¨quesÂ ; Chef du
  Projet Â« Biens culturels africainsÂ» de lâ€™IFAN-CAD.\n- Mandiaye Nd
 iaye, Conservateur des BibliothĂ¨quesÂ ; Coordonnateur national Eifl O
 pen AccessÂ ; Chef du projet UCAD OAR .\nObjectif gĂ©nĂ©ralÂ : Lanceme
 nt officiel des activitĂ©s de sensibilisation et de renforcement des c
 apacitĂ©s des acteurs de la communautĂ© universitaire dans le cadre du
  projet de mise en place du dĂ©pĂ´t institutionnel en libre accĂ¨s de 
 lâ€™UCAD Ă  la bibliothĂ¨que centrale.\nÂ \nObjectifs spĂ©cifiquesÂ :\
 n-Â Â Â Â Â Â Â Â Â  CĂ©lĂ©brer la semaine internationale de lâ€™Open 
 Access 2013Â ;\n-Â Â Â Â Â Â Â Â Â  Sensibiliser les diffĂ©rents acteu
 rs de la communautĂ© universitaire sur la dynamique du libre accĂ¨s da
 ns le mondeÂ ;\n-Â Â Â Â Â Â Â Â Â  Inciter les autoritĂ©s universitai
 res Ă  adopter une politique institutionnelle dâ€™AccĂ¨s OuvertÂ ;\n-Â
  Â Â Â Â Â Â Â Â  Partager sur le projet de dĂ©pĂ´t institutionnel en 
 libre accĂ¨s (UCAD-OAR) de lâ€™UCAD.\nÂ \nPrĂ©texteÂ : Lancement de la
  campagne de sensibilisation en faveur de lâ€™AccĂ¨s Ouvert financĂ©Â 
  par Eifl.net dans le cadre du projet UCAD OAR.\nContactÂ : mandiaye.n
 diaye@ucad.sn\n\nFor more information visit http://legacy.openaccesswe
 ek.org/events/open-access-week-2013-au-senegal-un-panel-autour-de-l-ac
 c-s
DTSTART;TZID=Pacific/Midway:20131023T093000
DTEND;TZID=Pacific/Midway:20131023T120000
CATEGORIES:un, panel, autour, de, "lâ€™accĂ¨s", ouvert
LOCATION:BibliothĂ¨que universitaire de Dakar
WEBSITE:
URL:
CONTACT:
ORGANIZER;CN="Mandiaye NDIAYE":http://legacy.openaccessweek.org/profil
 e/MandiayeNDIAYE
ATTACH;FMTTYPE="image/jpeg":
ATTENDEE;ROLE=REQ-PARTICIPANT;PARTSTAT=ACCEPTED;RSVP=TRUE;CN="Mandiaye
  NDIAYE":http://legacy.openaccessweek.org/profile/MandiayeNDIAYE
END:VEVENT
END:VCALENDAR
