BEGIN:VCALENDAR
PRODID:NingEventWidget-v1
VERSION:2.0
METHOD:PUBLISH
BEGIN:VTIMEZONE
TZID:Pacific/Midway
X-LIC-LOCATION:Pacific/Midway
BEGIN:STANDARD
TZOFFSETFROM:-1100
TZOFFSETTO:-1100
TZNAME:SST
DTSTART:19700101T000000
END:STANDARD
END:VTIMEZONE
BEGIN:VEVENT
UID:5385115:Event:102379
DTSTAMP:20260423T030431Z
SUMMARY:Open Access Week 2013 at the University of Salamanca
DESCRIPTION:La Universidad de Salamanca se une a las celebraciones de 
 esta semana, en coordinación con la Red de Bibliotecas Universitarias
  Españolas (REBIUN) y la Fundación Española para la Ciencia y la Te
 cnología (FECYT). La programación nacional, en la que participa la U
 niversidad de Salamanca, puede consultarse en http://accesoabierto.inf
 o.\nActividades en la Universidad de Salamanca\nPromoción en el siste
 ma de márketing dinámico de la USAL\nMárketing dinámico es el sist
 ema de promoción de actividades y convocatorias de la Universidad de 
 Salamanca. Todos los centros de la USAL disponen de pantallas en las q
 ue se distribuirá la información sobre la semana del acceso abierto.
  La información se centrará en la promoción de la semana internacio
 nal, de las actividades organizadas por la Universidad de Salamanca y 
 del repositorio Gredos como principal herramienta para el depósito y 
 redifusión en acceso abierto de los documentos producidos en la USAL.
 \nCampaña de difusión del acceso abierto\nEl Servicio de Bibliotecas
  y el Servicio de Innovación y Producción Digital centrarán sus acc
 iones de comunicación en la promoción del acceso abierto, a través 
 de sus blogs y redes sociales. La promoción se centra en recursos cre
 ados por la Universidad de Salamanca, entre los que destacan:\n\nDocum
 ento 10 claves del acceso abierto [PDF 640.71 Kb]\nGuía El acceso abi
 erto en la Universidad de Salamanca [PDF 517.05 Kb]\nVídeo Acceso abi
 erto en la Universidad de Salamanca [5.48 minutos]\nPresentación Auto
 archivo de documentos en el repositorio Gredos [PDF, 1.78Mb]\n\nMesa r
 edonda. Acceso abierto en España: servicios, proyectos, resultados Vi
 ernes 25 de Octubre, 12:00, Biblioteca Nacional de España (Retransmis
 ión en línea)\nPonentes: Isabel Bordes, Jefe de Servicio de Bibliote
 ca Digital, de la Biblioteca Nacional de España; María Luisa Martín
 ez Conde, Jefe de Área de Proyectos de la Subdirección General de Co
 ordinación Bibliotecaria del Ministerio de Educación, Cultura y Depo
 rte; Cristina González Copeiro del Villar, Directora del Departamento
  de Gestión de la Información Científica de la Fundación Española
  para la Ciencia y la Tecnología (FECYT); María Isabel Casal Reyes, 
 Directora de la Biblioteca Universitaria de la Universidade de Santiag
 o de Compostela; y José Antonio Merlo Vega, Director de Bibliotecas d
 e la Universidad de Salamanca. Coordinador del Grupo de Trabajo de Rep
 ositorios de la Red de Bibliotecas Universitarias Españolas (REBIUN).
 \n\n\nFor more information visit http://legacy.openaccessweek.org/even
 ts/open-access-week-2013-at-the-university-of-salamanca
DTSTART;TZID=Pacific/Midway:20131021T090000
DTEND;TZID=Pacific/Midway:20131025T190000
CATEGORIES:marketing, roundtable, video
LOCATION:Salamanca (Spain)
WEBSITE:http://diarium.usal.es/gredos/oaw/
URL:http://diarium.usal.es/gredos/oaw/
CONTACT:
ORGANIZER:University of Salamanca (Spain)
ATTACH;FMTTYPE="image/jpeg":http://storage.ning.com/topology/rest/1.0/
 file/get/3057529973?profile=original
ATTENDEE;ROLE=REQ-PARTICIPANT;PARTSTAT=ACCEPTED;RSVP=TRUE;CN="Jose Ant
 onio Merlo Vega":http://legacy.openaccessweek.org/profile/JoseAntonioM
 erloVega
ATTENDEE;ROLE=REQ-PARTICIPANT;PARTSTAT=ACCEPTED;RSVP=TRUE;CN="Tránsit
 o Ferreras Fernández":http://legacy.openaccessweek.org/profile/Transi
 toFerrerasFernandez
END:VEVENT
END:VCALENDAR
