BEGIN:VCALENDAR
PRODID:NingEventWidget-v1
VERSION:2.0
METHOD:PUBLISH
BEGIN:VTIMEZONE
TZID:Pacific/Midway
X-LIC-LOCATION:Pacific/Midway
BEGIN:STANDARD
TZOFFSETFROM:-1100
TZOFFSETTO:-1100
TZNAME:SST
DTSTART:19700101T000000
END:STANDARD
END:VTIMEZONE
BEGIN:VEVENT
UID:5385115:Event:49366
DTSTAMP:20260420T234842Z
SUMMARY:Open Access Week 2011 at the University of Las Palmas de Gran 
 Canaria (ULPGC)
DESCRIPTION:Our UniversityÂ is organizing theÂ meeting \"ULPGCÂ resear
 cher sand open access\" and \"Beyond the open access\", aÂ virtualÂ co
 nferenceÂ byÂ RemeÂ MeleroÂ 27 andÂ October 28, 2011.\nThere will beÂ 
 information pointsÂ throughoutÂ the University.\nThe eventsÂ will be b
 roadcastÂ byÂ videoconferenceÂ over the Internet.\n\nMore informationÂ
  http://tinyurl.com/accesoabierto\n\nFor more information visit http:/
 /legacy.openaccessweek.org/events/open-access-week-2011-at-the-univers
 ity-of-las-palmas-degran
DTSTART;TZID=Pacific/Midway:20111027T090000
DTEND;TZID=Pacific/Midway:20111028T130000
CATEGORIES:meeting
LOCATION:University of Las Palmas de Gran Canaria
WEBSITE:http://tinyurl.com/accesoabierto
URL:http://tinyurl.com/accesoabierto
CONTACT:+34928458670
ORGANIZER:ULPGC. University Library
ATTACH;FMTTYPE="image/jpeg":http://storage.ning.com/topology/rest/1.0/
 file/get/3057480084?profile=original
ATTENDEE;ROLE=REQ-PARTICIPANT;PARTSTAT=ACCEPTED;RSVP=TRUE;CN="Reme Mel
 ero":http://legacy.openaccessweek.org/profile/RemeMelero
ATTENDEE;ROLE=REQ-PARTICIPANT;PARTSTAT=ACCEPTED;RSVP=TRUE;CN="Victor M
 acias Aleman":http://legacy.openaccessweek.org/profile/VictorMaciasAle
 man
END:VEVENT
END:VCALENDAR
