BEGIN:VCALENDAR
PRODID:NingEventWidget-v1
VERSION:2.0
METHOD:PUBLISH
BEGIN:VTIMEZONE
TZID:Pacific/Midway
X-LIC-LOCATION:Pacific/Midway
BEGIN:STANDARD
TZOFFSETFROM:-1100
TZOFFSETTO:-1100
TZNAME:SST
DTSTART:19700101T000000
END:STANDARD
END:VTIMEZONE
BEGIN:VEVENT
UID:5385115:Event:95819
DTSTAMP:20260422T110723Z
SUMMARY:Open access webinar for Helmholtz Ph.D. students
DESCRIPTION:The Helmholtz Open Access Coordination Office will offer a
  free webinar for Ph.D. students of the Helmholtz Association entitled
  „Science is open: an introduction to open access“.\n\nFor more in
 formation visit http://legacy.openaccessweek.org/events/open-access-we
 binar-for-helmholtz-ph-d-students-3
DTSTART;TZID=Pacific/Midway:20131025T110000
DTEND;TZID=Pacific/Midway:20131025T113000
CATEGORIES:webinar
LOCATION:WWW
WEBSITE:http://oa.helmholtz.de/index.php?id=341
URL:http://oa.helmholtz.de/index.php?id=341
CONTACT:
ORGANIZER;CN="Paul Schultze-Motel":http://legacy.openaccessweek.org/pr
 ofile/DrPaulSchultzeMotel
ATTACH;FMTTYPE="image/jpeg":
ATTENDEE;ROLE=REQ-PARTICIPANT;PARTSTAT=ACCEPTED;RSVP=TRUE;CN="Paul Sch
 ultze-Motel":http://legacy.openaccessweek.org/profile/DrPaulSchultzeMo
 tel
END:VEVENT
END:VCALENDAR
