BEGIN:VCALENDAR
PRODID:NingEventWidget-v1
VERSION:2.0
METHOD:PUBLISH
BEGIN:VTIMEZONE
TZID:Pacific/Midway
X-LIC-LOCATION:Pacific/Midway
BEGIN:STANDARD
TZOFFSETFROM:-1100
TZOFFSETTO:-1100
TZNAME:SST
DTSTART:19700101T000000
END:STANDARD
END:VTIMEZONE
BEGIN:VEVENT
UID:5385115:Event:164465
DTSTAMP:20260423T142134Z
SUMMARY:Open Access und Forschungsdaten
DESCRIPTION:Die hochschulweite Veranstaltung diskutiert die Möglichke
 iten und Herausforderungen von Open Access und dem Management von Fors
 chungsdaten für die angewandten Wissenschaften und die praxisorientie
 rte Lehre.\n\nWelche Chancen bieten beide Themen für eine innovative 
 und forschungsstarke Hochschule mit eigenem Promotionsrecht? Welche He
 rausforderungen stellen sie für eine weitgehend drittmittelfinanziert
 e Forschung?\n\nFor more information visit http://legacy.openaccesswee
 k.org/events/open-access-und-forschungsdaten
DTSTART;TZID=Pacific/Midway:20171025T150000
DTEND;TZID=Pacific/Midway:20171025T173000
CATEGORIES:vorträge, und, diskussion
LOCATION:Germany
WEBSITE:https://www.hs-fulda.de/hlb/ueber-die-hlb/aktuelles/meldungsde
 tails/news/open-access-und-forschungsdaten/detail/News/?no_cache=1&amp
 ;cHash=6770a586ebdf2da21fe69bcf649c116d
URL:https://www.hs-fulda.de/hlb/ueber-die-hlb/aktuelles/meldungsdetail
 s/news/open-access-und-forschungsdaten/detail/News/?no_cache=1&amp;cHa
 sh=6770a586ebdf2da21fe69bcf649c116d
CONTACT:
ORGANIZER;CN="Patrick Langner":http://legacy.openaccessweek.org/profil
 e/PatrickLangner
ATTACH;FMTTYPE="image/jpeg":
ATTENDEE;ROLE=REQ-PARTICIPANT;PARTSTAT=ACCEPTED;RSVP=TRUE;CN="Patrick 
 Langner":http://legacy.openaccessweek.org/profile/PatrickLangner
END:VEVENT
END:VCALENDAR
