BEGIN:VCALENDAR
PRODID:NingEventWidget-v1
VERSION:2.0
METHOD:PUBLISH
BEGIN:VTIMEZONE
TZID:Pacific/Midway
X-LIC-LOCATION:Pacific/Midway
BEGIN:STANDARD
TZOFFSETFROM:-1100
TZOFFSETTO:-1100
TZNAME:SST
DTSTART:19700101T000000
END:STANDARD
END:VTIMEZONE
BEGIN:VEVENT
UID:5385115:Event:158502
DTSTAMP:20260423T201424Z
SUMMARY:Open Access Tools: Saving You Time and Money!
DESCRIPTION:Have you ever come across paywalls when conducting your re
 search? \nLearn about open access tools such as Unpaywall, Open Acces
 s Button, and Google Scholar that can help with locating legal version
 s of scholarly articles beyond UCLA Library licensed collections. In t
 his hands-on workshop, participants will use each tool to locate artic
 les behind paywalls and explore which tools are most useful for differ
 ent types of research. Bring a laptop and receive help with installing
  these browser add-ons. \nPresented by Tony Aponte, Science and Engin
 eering Library, and Simon Lee, Powell Library\nHeld in the Presentatio
 n Room on the first floor of the Charles E. Young Research Library\n\n
 For more information visit http://legacy.openaccessweek.org/events/ope
 n-access-tools-saving-you-time-and-money
DTSTART;TZID=Pacific/Midway:20171025T140000
DTEND;TZID=Pacific/Midway:20171025T150000
CATEGORIES:presentation
LOCATION:United States of America
WEBSITE:http://www.library.ucla.edu/events/open-access-tools
URL:http://www.library.ucla.edu/events/open-access-tools
CONTACT:
ORGANIZER;CN="Jennifer Chan":http://legacy.openaccessweek.org/profile/
 JenniferChan138
ATTACH;FMTTYPE="image/jpeg":http://storage.ning.com/topology/rest/1.0/
 file/get/3057593075?profile=original
ATTENDEE;ROLE=REQ-PARTICIPANT;PARTSTAT=ACCEPTED;RSVP=TRUE;CN="Jennifer
  Chan":http://legacy.openaccessweek.org/profile/JenniferChan138
END:VEVENT
END:VCALENDAR
