BEGIN:VCALENDAR
PRODID:NingEventWidget-v1
VERSION:2.0
METHOD:PUBLISH
BEGIN:VTIMEZONE
TZID:Pacific/Midway
X-LIC-LOCATION:Pacific/Midway
BEGIN:STANDARD
TZOFFSETFROM:-1100
TZOFFSETTO:-1100
TZNAME:SST
DTSTART:19700101T000000
END:STANDARD
END:VTIMEZONE
BEGIN:VEVENT
UID:5385115:Event:75984
DTSTAMP:20260419T042715Z
SUMMARY:Open Access to Scientific Information By Çiğdem Yıldırım 
 & Kamil Yeşiltaş Reference Librarians
DESCRIPTION:Suna Kıraç Library is keeping to organize more events in
  the Open Access Week'12. With this seminar, we aim to familiarize the
  consept of open access to undergraduate students and how to access to
  Scientific Information using open access resources in their academic 
 life.\n\nFor more information visit http://legacy.openaccessweek.org/e
 vents/open-access-to-scientific-information-by-i-dem-y-ld-r-m-kamil-ye
DTSTART;TZID=Pacific/Midway:20121022T153000
DTEND;TZID=Pacific/Midway:20121022T163000
CATEGORIES:seminar
LOCATION:Koç University Suna Kıraç Library Atrium
WEBSITE:
URL:
CONTACT:+90 212 338 1661
ORGANIZER:Koç University Suna Kıraç Library
ATTACH;FMTTYPE="image/jpeg":
ATTENDEE;ROLE=REQ-PARTICIPANT;PARTSTAT=ACCEPTED;RSVP=TRUE;CN="Cigdem Y
 ildirim":http://legacy.openaccessweek.org/profile/CigdemYildirim
END:VEVENT
END:VCALENDAR
