BEGIN:VCALENDAR
PRODID:NingEventWidget-v1
VERSION:2.0
METHOD:PUBLISH
BEGIN:VTIMEZONE
TZID:Pacific/Midway
X-LIC-LOCATION:Pacific/Midway
BEGIN:STANDARD
TZOFFSETFROM:-1100
TZOFFSETTO:-1100
TZNAME:SST
DTSTART:19700101T000000
END:STANDARD
END:VTIMEZONE
BEGIN:VEVENT
UID:5385115:Event:50629
DTSTAMP:20260419T105909Z
SUMMARY:Open Access to scientific information and copyright
DESCRIPTION:Presentation will resort to copyright and selected aspects
  of legal relations between author, publisher and fair usage policy. E
 vent will be chaired by the lecturer of Faculty of Law at the Universi
 ty of Latvia Mārcis Krūmiņš.\n\nFor more information visit http://
 legacy.openaccessweek.org/events/open-access-to-scientific-information
 -and-copyright
DTSTART;TZID=Pacific/Midway:20111026T100000
DTEND;TZID=Pacific/Midway:20111026T120000
CATEGORIES:presentation
LOCATION:ULL Multidisciplinary library: Computers science, Law and The
 ology
WEBSITE:
URL:
CONTACT:
ORGANIZER:University of Latvia Library
ATTACH;FMTTYPE="image/jpeg":http://storage.ning.com/topology/rest/1.0/
 file/get/3057483441?profile=original
ATTENDEE;ROLE=REQ-PARTICIPANT;PARTSTAT=ACCEPTED;RSVP=TRUE;CN="Sandra R
 anka":http://legacy.openaccessweek.org/profile/SandraRanka
END:VEVENT
END:VCALENDAR
