BEGIN:VCALENDAR
PRODID:NingEventWidget-v1
VERSION:2.0
METHOD:PUBLISH
BEGIN:VTIMEZONE
TZID:Pacific/Midway
X-LIC-LOCATION:Pacific/Midway
BEGIN:STANDARD
TZOFFSETFROM:-1100
TZOFFSETTO:-1100
TZNAME:SST
DTSTART:19700101T000000
END:STANDARD
END:VTIMEZONE
BEGIN:VEVENT
UID:5385115:Event:100214
DTSTAMP:20260422T073827Z
SUMMARY:Open Access to Scholarly Literature: Which Side Are You On?
DESCRIPTION:Open access (OA) to scholarly literature recently hit a ma
 jor milestone: Half of all research articles published become open acc
 ess, either immediately or after an embargo period. Are the articles y
 ou read among them? What about the articles you write? Are the journal
 s to which you submit open-access friendly? What about the journals fo
 r which you peer review? Are there any reasons why the public should n
 ot have access to the results of taxpayer-funded research?\nJill Ciras
 ella (Associate Librarian for Public Services and Scholarly Communicat
 ion, Graduate Center) will explain the motivation for OA, describe the
  details of OA, and differentiate between publishing in open access jo
 urnals (“gold” OA) and self-archiving works in OA repositories (
 green” OA). She will also dispel persistent myths about OA and exam
 ine some of the challenges to OA.\n\nFor more information visit http:/
 /legacy.openaccessweek.org/events/open-access-to-scholarly-literature-
 which-side-are-you-on
DTSTART;TZID=Pacific/Midway:20131025T100000
DTEND;TZID=Pacific/Midway:20131025T120000
CATEGORIES:presentation
LOCATION:Graduate Center, City University of New York
WEBSITE:http://openaccess.commons.gc.cuny.edu/
URL:http://openaccess.commons.gc.cuny.edu/
CONTACT:
ORGANIZER;CN="Maura Smale":http://legacy.openaccessweek.org/profile/Ma
 uraSmale
ATTACH;FMTTYPE="image/jpeg":http://storage.ning.com/topology/rest/1.0/
 file/get/3057476209?profile=original
ATTENDEE;ROLE=REQ-PARTICIPANT;PARTSTAT=ACCEPTED;RSVP=TRUE;CN="Maura Sm
 ale":http://legacy.openaccessweek.org/profile/MauraSmale
END:VEVENT
END:VCALENDAR
