BEGIN:VCALENDAR
PRODID:NingEventWidget-v1
VERSION:2.0
METHOD:PUBLISH
BEGIN:VTIMEZONE
TZID:Pacific/Midway
X-LIC-LOCATION:Pacific/Midway
BEGIN:STANDARD
TZOFFSETFROM:-1100
TZOFFSETTO:-1100
TZNAME:SST
DTSTART:19700101T000000
END:STANDARD
END:VTIMEZONE
BEGIN:VEVENT
UID:5385115:Event:42578
DTSTAMP:20260419T165005Z
SUMMARY:Open Access: Scholarship Unbound
DESCRIPTION:What: Open Access Week 2011 at UF\nWhen: Wednesday, Oct. 2
 6th, 2011 from 1:00 - 3:30\nWhere: Rion Ballroom, Room 282, Reitz Unio
 n\n \n1:00 - 1:15p.m.\nPoster sessions and refreshments\n \n1:15 –
  1:30 p.m            \n\"Growth of Open Access\"\nJudith Ru
 ssell, Dean of UF Libraries, and a member of the University Library Co
 mmittee\n \n1:30 – 2:00 p.m.           \n\"The UF Open Ac
 cess Publishing Fund and Recipient Feedback\"\nIsabel Silver, Director
 , Academic and Scholarly Outreach\n \n2:00 – 2:15 p.m.       
     \n“Copyright and Author's Rights”\nChristine Ross, Scholar
 ly Communications Librarian\n \n2:15 – 2:30 p.m.          
  \n“Digital Humanities”\nSophia Acord, Associate Director, Center
  for the Humanities and the Public Sphere\n \n2:30 – 3:30 p.m.   
         \nRound Table Talks\n    1. Copyright/Author's Righ
 ts\n   2. Digital Scholarship/Institutional Repository\n   3. UF O
 pen Access Faculty Policy\n   4. Future of UFOAPF\n   5. Open Peer
  Review\n   6. Graduate Research and Open Access\n   7. Public Acc
 ess to Research\n\nFor more information visit http://legacy.openaccess
 week.org/events/open-access-scholarship
DTSTART;TZID=Pacific/Midway:20111026T130000
DTEND;TZID=Pacific/Midway:20111026T153000
CATEGORIES:conference
LOCATION:University of Florida - Reitz Union, Rion Ballroom (Room 282)
WEBSITE:http://www.uflib.ufl.edu/oa/oaweek/
URL:http://www.uflib.ufl.edu/oa/oaweek/
CONTACT:
ORGANIZER:UF Scholarly Communications Working Group
ATTACH;FMTTYPE="image/jpeg":http://storage.ning.com/topology/rest/1.0/
 file/get/3057467169?profile=original
ATTENDEE;ROLE=REQ-PARTICIPANT;PARTSTAT=ACCEPTED;RSVP=TRUE;CN="Christin
 e Fruin":http://legacy.openaccessweek.org/profile/ChristineRoss
ATTENDEE;ROLE=REQ-PARTICIPANT;PARTSTAT=ACCEPTED;RSVP=TRUE;CN="Beth Aut
 en":http://legacy.openaccessweek.org/profile/BethAuten
END:VEVENT
END:VCALENDAR
