BEGIN:VCALENDAR
PRODID:NingEventWidget-v1
VERSION:2.0
METHOD:PUBLISH
BEGIN:VTIMEZONE
TZID:Pacific/Midway
X-LIC-LOCATION:Pacific/Midway
BEGIN:STANDARD
TZOFFSETFROM:-1100
TZOFFSETTO:-1100
TZNAME:SST
DTSTART:19700101T000000
END:STANDARD
END:VTIMEZONE
BEGIN:VEVENT
UID:5385115:Event:6079
DTSTAMP:20260419T121619Z
SUMMARY:Open Access Scholarly Publishing: How Can Faculty Get Involved
 ?
DESCRIPTION:Are you a faculty member interested in publishing your res
 earch and scholarship via open access methods? Join us to explore the 
 practical considerations of OA publishing for faculty. We’ll discuss
  identifying OA peer-reviewed journals, using Creative Commons both to
  license your work and use work that others have licensed, and Open Jo
 urnal Systems: a free, open source platform for publishing scholarly j
 ournals.\n\nFor more information visit http://legacy.openaccessweek.or
 g/events/open-access-scholarly
DTSTART;TZID=Pacific/Midway:20101019T150000
DTEND;TZID=Pacific/Midway:20101019T170000
CATEGORIES:program
LOCATION:Atrium 632 (Faculty Lounge), New York City College of Technol
 ogy, CUNY
WEBSITE:http://oaweek2010.commons.gc.cuny.edu/
URL:http://oaweek2010.commons.gc.cuny.edu/
CONTACT:
ORGANIZER;CN="Maura Smale":http://legacy.openaccessweek.org/profile/Ma
 uraSmale
ATTACH;FMTTYPE="image/jpeg":http://storage.ning.com/topology/rest/1.0/
 file/get/3057472342?profile=original
ATTENDEE;ROLE=REQ-PARTICIPANT;PARTSTAT=ACCEPTED;RSVP=TRUE;CN="Maura Sm
 ale":http://legacy.openaccessweek.org/profile/MauraSmale
ATTENDEE;ROLE=REQ-PARTICIPANT;PARTSTAT=TENTATIVE;RSVP=TRUE;CN="Jutta H
 eller":http://legacy.openaccessweek.org/profile/JuttaHeller
END:VEVENT
END:VCALENDAR
