BEGIN:VCALENDAR
PRODID:NingEventWidget-v1
VERSION:2.0
METHOD:PUBLISH
BEGIN:VTIMEZONE
TZID:Pacific/Midway
X-LIC-LOCATION:Pacific/Midway
BEGIN:STANDARD
TZOFFSETFROM:-1100
TZOFFSETTO:-1100
TZNAME:SST
DTSTART:19700101T000000
END:STANDARD
END:VTIMEZONE
BEGIN:VEVENT
UID:5385115:Event:6259
DTSTAMP:20260419T035307Z
SUMMARY:\"Open Access Resources available to FSU Faculty\"
DESCRIPTION:Susie Henderson (Florida Distance Learning Consortium), Ma
 rk Flynn (Florida State Library), Plato Smith (FSU Libraries)\n\nFor m
 ore information visit http://legacy.openaccessweek.org/events/open-acc
 ess-resources
DTSTART;TZID=Pacific/Midway:20101011T180000
DTEND;TZID=Pacific/Midway:20101011T190000
CATEGORIES:panel, presentation
LOCATION:Florida State University - Strozier Library, Scholars Commons
  Instruction Room
WEBSITE:
URL:
CONTACT:
ORGANIZER;CN="Gloria Colvin":http://legacy.openaccessweek.org/profile/
 GloriaColvin
ATTACH;FMTTYPE="image/jpeg":
ATTENDEE;ROLE=REQ-PARTICIPANT;PARTSTAT=ACCEPTED;RSVP=TRUE;CN="Gloria C
 olvin":http://legacy.openaccessweek.org/profile/GloriaColvin
END:VEVENT
END:VCALENDAR
