BEGIN:VCALENDAR
PRODID:NingEventWidget-v1
VERSION:2.0
METHOD:PUBLISH
BEGIN:VTIMEZONE
TZID:Pacific/Midway
X-LIC-LOCATION:Pacific/Midway
BEGIN:STANDARD
TZOFFSETFROM:-1100
TZOFFSETTO:-1100
TZNAME:SST
DTSTART:19700101T000000
END:STANDARD
END:VTIMEZONE
BEGIN:VEVENT
UID:5385115:Event:162742
DTSTAMP:20260423T101738Z
SUMMARY:Open Access resources for legal research
DESCRIPTION:Dedicated to the 23-29 October 2017 International Open Acc
 ess Week at the 27th of October, 2017 from 3.00 pm to  6.00 pm in Nat
 ional University “Odessa Academy of Law” the Methodical Workshop 
 “Open Access resources for legal research” will be held.\nMethodic
 al Workshop consists of parts:\n1. General characteristics of open ac
 cess resources. Classification of open access resources. (O. A. Dremly
 uga)\n2. Legal Principles of Open Access (T. Yu. Ivaniichuk)\n3. Insti
 tutional repository of National University \"Odessa Academy of Law\" (
 T. O. Khrushch)\n4. Open Access Resources for Lawyers. Specificity of 
 the search for legal research information by means of open access (N. 
 Zubchenko)\nWelcome scientists, students, graduates and post-graduates
 , librarians!\nNB! All the materials of the master class will be poste
 d in open access in the Institutional repository of National Universit
 y “Odessa Law Academy”.\nScientific Library of National University
  “Odessa Academy of Law”\n2, Akademichna (Pionerska) str., Odessa,
  Ukraine, 65009\n\nFor more information visit http://legacy.openaccess
 week.org/events/open-access-resources-for-legal-research
DTSTART;TZID=Pacific/Midway:20171027T150000
DTEND;TZID=Pacific/Midway:20171027T180000
CATEGORIES:methodical, workshop
LOCATION:6
WEBSITE:
URL:
CONTACT:
ORGANIZER;CN="Scientific Library of NU \"OLA\"":http://legacy.openacce
 ssweek.org/profile/libnuoua
ATTACH;FMTTYPE="image/jpeg":
ATTENDEE;ROLE=REQ-PARTICIPANT;PARTSTAT=ACCEPTED;RSVP=TRUE;CN="Scientif
 ic Library of NU \"OLA\"":http://legacy.openaccessweek.org/profile/lib
 nuoua
END:VEVENT
END:VCALENDAR
