BEGIN:VCALENDAR
PRODID:NingEventWidget-v1
VERSION:2.0
METHOD:PUBLISH
BEGIN:VTIMEZONE
TZID:Pacific/Midway
X-LIC-LOCATION:Pacific/Midway
BEGIN:STANDARD
TZOFFSETFROM:-1100
TZOFFSETTO:-1100
TZNAME:SST
DTSTART:19700101T000000
END:STANDARD
END:VTIMEZONE
BEGIN:VEVENT
UID:5385115:Event:147703
DTSTAMP:20260421T042618Z
SUMMARY:Open Access Research Data Sharing Requirements: Are you ready?
DESCRIPTION:In support of Open Access Week 2016, we would be hosting a
 n event on research data sharing.\n\nAre data sharing concepts somewha
 t new to you?  \nDo you understand why NTU and many funders/instituti
 ons/journals are requiring data sharing? \nDo you have questions abou
 t how to start preparing for data sharing in the context of your own r
 esearch? \n\n\nFor more information visit http://legacy.openaccesswee
 k.org/events/open-access-research-data-sharing-requirements-are-you-re
 ady
DTSTART;TZID=Pacific/Midway:20161027T110000
DTEND;TZID=Pacific/Midway:20161027T123000
CATEGORIES:talk, forum
LOCATION:Singapore
WEBSITE:http://blogs.ntu.edu.sg/lib-scholarlycomm/?p=18769
URL:http://blogs.ntu.edu.sg/lib-scholarlycomm/?p=18769
CONTACT:
ORGANIZER:NTU Libraries
ATTACH;FMTTYPE="image/jpeg":http://storage.ning.com/topology/rest/1.0/
 file/get/3057580323?profile=original
ATTENDEE;ROLE=REQ-PARTICIPANT;PARTSTAT=ACCEPTED;RSVP=TRUE;CN="Kostas R
 epanas":http://legacy.openaccessweek.org/profile/KostasRepanas
ATTENDEE;ROLE=REQ-PARTICIPANT;PARTSTAT=ACCEPTED;RSVP=TRUE;CN="Men Yali
 ":http://legacy.openaccessweek.org/profile/MenYali
END:VEVENT
END:VCALENDAR
