BEGIN:VCALENDAR
PRODID:NingEventWidget-v1
VERSION:2.0
METHOD:PUBLISH
BEGIN:VTIMEZONE
TZID:Pacific/Midway
X-LIC-LOCATION:Pacific/Midway
BEGIN:STANDARD
TZOFFSETFROM:-1100
TZOFFSETTO:-1100
TZNAME:SST
DTSTART:19700101T000000
END:STANDARD
END:VTIMEZONE
BEGIN:VEVENT
UID:5385115:Event:175966
DTSTAMP:20260420T094005Z
SUMMARY:Open Access: Research and Innovation Professional Development 
 Series
DESCRIPTION:Open Access\nLI5014C (Paterson Library, 5th floor) & Orill
 ia 0A2005\n\nThis 45-minute session provides an introduction to open a
 ccess journals from the perspective of prospective authors. We’ll lo
 ok at the types of open access journals and how they work, how to find
  open access journals and other resources to support your research.\n\
 nFor more information visit http://legacy.openaccessweek.org/events/op
 en-access-research-and-innovation-professional-development
DTSTART;TZID=Pacific/Midway:20181023T103000
DTEND;TZID=Pacific/Midway:20181023T113000
CATEGORIES:presentation
LOCATION:Canada
WEBSITE:http://library.lakeheadu.ca
URL:http://library.lakeheadu.ca
CONTACT:8073438225
ORGANIZER:Research Services and Library - Lakehead University
ATTACH;FMTTYPE="image/jpeg":
ATTENDEE;ROLE=REQ-PARTICIPANT;PARTSTAT=ACCEPTED;RSVP=TRUE;CN="Debra Go
 ld":http://legacy.openaccessweek.org/profile/DebraGold
END:VEVENT
END:VCALENDAR
