BEGIN:VCALENDAR
PRODID:NingEventWidget-v1
VERSION:2.0
METHOD:PUBLISH
BEGIN:VTIMEZONE
TZID:Pacific/Midway
X-LIC-LOCATION:Pacific/Midway
BEGIN:STANDARD
TZOFFSETFROM:-1100
TZOFFSETTO:-1100
TZNAME:SST
DTSTART:19700101T000000
END:STANDARD
END:VTIMEZONE
BEGIN:VEVENT
UID:5385115:Event:174023
DTSTAMP:20260421T010452Z
SUMMARY:Open Access: Questions and Answers
DESCRIPTION:Researcher or PhD student at Uppsala university? Drop in b
 etween 11-12 to ask library staff any questions you might have regardi
 ng Open Access, get involved and learn more about what Open Access mig
 ht look like in the future. Bring anything from your author agreements
  and research projects to data queries. \n\nFor more information visi
 t http://legacy.openaccessweek.org/events/open-access-q-amp-a
DTSTART;TZID=Pacific/Midway:20181022T110000
DTEND;TZID=Pacific/Midway:20181022T120000
CATEGORIES:discussions
LOCATION:Sweden
WEBSITE:http://www.ub.uu.se/om-biblioteket/kurser-och-evenemang/kalend
 arium-detaljvy/?eventId=38740
URL:http://www.ub.uu.se/om-biblioteket/kurser-och-evenemang/kalendariu
 m-detaljvy/?eventId=38740
CONTACT:
ORGANIZER:Madeleine Söderberg, Uppsala University Library
ATTACH;FMTTYPE="image/jpeg":http://storage.ning.com/topology/rest/1.0/
 file/get/3057610633?profile=original
ATTENDEE;ROLE=REQ-PARTICIPANT;PARTSTAT=ACCEPTED;RSVP=TRUE;CN="Anu-Marj
 a Salminoja":http://legacy.openaccessweek.org/profile/AnuMarjaSalminoj
 a
END:VEVENT
END:VCALENDAR
