BEGIN:VCALENDAR
PRODID:NingEventWidget-v1
VERSION:2.0
METHOD:PUBLISH
BEGIN:VTIMEZONE
TZID:Pacific/Midway
X-LIC-LOCATION:Pacific/Midway
BEGIN:STANDARD
TZOFFSETFROM:-1100
TZOFFSETTO:-1100
TZNAME:SST
DTSTART:19700101T000000
END:STANDARD
END:VTIMEZONE
BEGIN:VEVENT
UID:5385115:Event:50190
DTSTAMP:20260419T042337Z
SUMMARY:Open Access Q&A with Peter Suber at Boston U
DESCRIPTION:This is BU's third year participating in Open Access Week,
  and BU Libraries are sponsoring a Q&A with Peter Suber, widely regard
 ed as one of the originators of the Open Access movement.\n\nThe conve
 rsation will take place WEDNESDAY, OCTOBER 26 at 4PM in Stone B50 (bas
 ement of the CAS building, 675/685 Commonwealth Ave.)\n\nPeter Suber i
 s a Fellow at Harvard’s Berkman Center for Internet and Society, Sen
 ior Researcher at SPARC, the Open Access Project Director at the Publi
 c Knowledge Project, and Research Professor of Philosophy at Earlham C
 ollege. He earned his MA and PhD in philosophy, as well as his JD cum 
 laude, from Northwestern University. Suber serves on numerous steering
  committees and advisory boards for high-profile open access projects.
 \n\nMore information is available here.\n\nFor more information visit 
 http://legacy.openaccessweek.org/events/open-access-q-a-with-peter-sub
 er-at-boston-u
DTSTART;TZID=Pacific/Midway:20111026T160000
DTEND;TZID=Pacific/Midway:20111026T173000
CATEGORIES:"q&a"
LOCATION:College of Arts and Sciences Rm B50
WEBSITE:http://www.bu.edu/dioa/2011/10/14/event-announcement-qa-with-p
 eter-suber-1026/
URL:http://www.bu.edu/dioa/2011/10/14/event-announcement-qa-with-peter
 -suber-1026/
CONTACT:617-358-6370
ORGANIZER;CN="Vika Zafrin":http://legacy.openaccessweek.org/profile/Vi
 kaZafrin
ATTACH;FMTTYPE="image/jpeg":http://storage.ning.com/topology/rest/1.0/
 file/get/3057483410?profile=original
ATTENDEE;ROLE=REQ-PARTICIPANT;PARTSTAT=ACCEPTED;RSVP=TRUE;CN="Vika Zaf
 rin":http://legacy.openaccessweek.org/profile/VikaZafrin
END:VEVENT
END:VCALENDAR
